BEGIN:VCALENDAR
VERSION:2.0
PRODID:-//Spoonful - ECPv5.14.1//NONSGML v1.0//EN
CALSCALE:GREGORIAN
METHOD:PUBLISH
X-WR-CALNAME:Spoonful
X-ORIGINAL-URL:https://spoonful.sg
X-WR-CALDESC:Events for Spoonful
BEGIN:VTIMEZONE
TZID:Asia/Singapore
BEGIN:STANDARD
TZOFFSETFROM:+0800
TZOFFSETTO:+0800
TZNAME:+08
DTSTART:20170101T000000
END:STANDARD
END:VTIMEZONE
BEGIN:VEVENT
DTSTART;TZID=Asia/Singapore:20170316T100000
DTEND;TZID=Asia/Singapore:20170316T123000
DTSTAMP:20260422T024056
CREATED:20170209T063836Z
LAST-MODIFIED:20170227T030020Z
UID:1577-1489658400-1489667400@spoonful.sg
SUMMARY:Yakuzen Intensive Class Basic (Phase 1)
DESCRIPTION:Learn to cook simple & healthy meals based on TCM theory. Beginners welcome! \nThis program is currently only available in Japanese language. Please contact us directly at info@alchemist.sg should you be interested in an English class. \n  \n 
URL:https://spoonful.sg/event/%e6%97%a5%e6%9c%ac%e8%aa%9e-%e8%b3%87%e6%a0%bc%e5%8f%96%e5%be%97%e3%82%af%e3%83%a9%e3%82%b9%e8%96%ac%e8%86%b3%e7%90%86%e8%ab%96%e3%83%99%e3%83%bc%e3%82%b7%e3%83%83%e3%82%af%e3%80%80%e7%ac%ac1/
LOCATION:La Terre\, 11 UPPER CIRCULAR RD\, 058409\, Singapore
CATEGORIES:Featured Singapore Culinary Events,Singapore Culinary Events
ATTACH;FMTTYPE=image/jpeg:https://spoonful.sg/wp-content/uploads/2017/02/IMG_4927.jpg
ORGANIZER;CN="Zenlicious":MAILTO:Zenlicious.fal@gmail.com
END:VEVENT
END:VCALENDAR