BEGIN:VCALENDAR
VERSION:2.0
PRODID:-//Spoonful - ECPv5.14.1//NONSGML v1.0//EN
CALSCALE:GREGORIAN
METHOD:PUBLISH
X-WR-CALNAME:Spoonful
X-ORIGINAL-URL:https://spoonful.sg
X-WR-CALDESC:Events for Spoonful
BEGIN:VTIMEZONE
TZID:Asia/Singapore
BEGIN:STANDARD
TZOFFSETFROM:+0800
TZOFFSETTO:+0800
TZNAME:+08
DTSTART:20170101T000000
END:STANDARD
END:VTIMEZONE
BEGIN:VEVENT
DTSTART;TZID=Asia/Singapore:20170222T190000
DTEND;TZID=Asia/Singapore:20170222T220000
DTSTAMP:20260417T090315
CREATED:20170215T022615Z
LAST-MODIFIED:20170215T023443Z
UID:1747-1487790000-1487800800@spoonful.sg
SUMMARY:A Beer & Yodelling Evening - 6 course Beer Pairing Menu
DESCRIPTION:Let the feasting begin with Brotzeit’s 6-course Beer Pairing Menu at $48++ per pax only! \n                                                                Smoked Salmon with Mustard Caviar                                                                        Nelson White Beer (5.2%) \n                                                              Bierbeiser and German Cheese Spread                                                                           Camba Pale Ale (5.2%) \n                                                             Black Forest Ham with Fresh Horseradish                                                                         Camba Hop Gun (6.4%) \n                                                      Backhuhn with Potato Salad and Pumpkin Seed Oil                                                                         Camba Amber Ale (7.2%) \n                                                                        Goulash Soup with Brezn                                                                        Camba Black Shark (8.5%) \n                                                                             Vanilla Ice Cream                                                       Oak Aged Double Bock – Bourbon (10.5%) \n  \nAll beers from Camba – Germany’s Award Winning craft Brewer \nPlease RSVP with the outlet : VivoCity1 HarbourFront Walk #01-149/151\, VivoCity Singapore 098585For reservation & enquiry: (65) 6272 8815 \nOPENING HOURS:Mon – Thurs: 12:00PM – 12:00AM Fri & Sat: 12:00PM – 01:00AMSun: 11:00AM – 11:00PMPH Eve: 11:00AM / 12:00PM – 01:00AMPH: 12:00PM – 12:00AM / 01.00AM
URL:https://spoonful.sg/event/a-beer-yodelling-evening-6-course-beer-pairing-menu/
LOCATION:Brotzeit @ VivoCity\, 1 HarbourFront Walk #01-149/151\, VivoCity Singapore 098585
CATEGORIES:Featured Singapore Culinary Events,Singapore Culinary Events
ATTACH;FMTTYPE=image/jpeg:https://spoonful.sg/wp-content/uploads/2017/02/Brotzeit-Beer.jpg
END:VEVENT
END:VCALENDAR