BEGIN:VCALENDAR
VERSION:2.0
PRODID:-//Spoonful - ECPv5.14.1//NONSGML v1.0//EN
CALSCALE:GREGORIAN
METHOD:PUBLISH
X-WR-CALNAME:Spoonful
X-ORIGINAL-URL:https://spoonful.sg
X-WR-CALDESC:Events for Spoonful
BEGIN:VTIMEZONE
TZID:Asia/Singapore
BEGIN:STANDARD
TZOFFSETFROM:+0800
TZOFFSETTO:+0800
TZNAME:+08
DTSTART:20170101T000000
END:STANDARD
END:VTIMEZONE
BEGIN:VEVENT
DTSTART;VALUE=DATE:20170225
DTEND;VALUE=DATE:20170226
DTSTAMP:20260416T152012
CREATED:20170215T025221Z
LAST-MODIFIED:20170215T025221Z
UID:1780-1487980800-1488067199@spoonful.sg
SUMMARY:A Beer & Yodelling Evening with Yodelling Guinness World Record Holder\, and renown Beer Sommelier\, Andrea Wittman!
DESCRIPTION:Don’t miss the performance of Yodelling Guinness World Record Holder and renown Beer Sommelier\, Andrea Wittman! \nOnly at Brotzeit! \nDate: 24 Feb 2017Time: 11:00 – 13:30          18:00 – 21:00 \nVenue: Brotzeit Westgate \n  \nPlease RSVP with the outlet :  \nWESTGATE\n3 Gateway Drive #01-04\, Westgate Singapore 608532For reservation & enquiry: (65) 6465 9874\nOPENING HOURS:Mon – Thurs\, Sun and PH: 12:00PM – 12:00AM Fri\, Sat and PH Eve: 12:00PM – 01:00AM
URL:https://spoonful.sg/event/a-beer-yodelling-evening-with-yodelling-guinness-world-record-holder-and-renown-beer-sommelier-andrea-wittman-2/
LOCATION:Brotzeit Westgate\, 3 Gateway Drive #01-04\, Westgate Singapore 608532
CATEGORIES:Featured Singapore Culinary Events,Singapore Culinary Events
ATTACH;FMTTYPE=image/jpeg:https://spoonful.sg/wp-content/uploads/2017/02/Brotzeit_-Beer_Yodeling.jpg
END:VEVENT
END:VCALENDAR