BEGIN:VCALENDAR
VERSION:2.0
PRODID:-//Spoonful - ECPv5.14.1//NONSGML v1.0//EN
CALSCALE:GREGORIAN
METHOD:PUBLISH
X-WR-CALNAME:Spoonful
X-ORIGINAL-URL:https://spoonful.sg
X-WR-CALDESC:Events for Spoonful
BEGIN:VTIMEZONE
TZID:Asia/Singapore
BEGIN:STANDARD
TZOFFSETFROM:+0800
TZOFFSETTO:+0800
TZNAME:+08
DTSTART:20180101T000000
END:STANDARD
END:VTIMEZONE
BEGIN:VEVENT
DTSTART;TZID=Asia/Singapore:20180529T103000
DTEND;TZID=Asia/Singapore:20180529T140000
DTSTAMP:20260420T022232
CREATED:20180416T113731Z
LAST-MODIFIED:20180528T035711Z
UID:5359-1527589800-1527602400@spoonful.sg
SUMMARY:Croissant Baking Class
DESCRIPTION:This class will be conducted in Japanese only this day\, for the English class\, please contact at info@alchemist.sg  \n   Menu  \n\nCroissant \nPain au chocolat\nPain aux raisins\nCroquant\n\n  \nClass Format / ProgrammeHands on \nWhat’s included in the ticket fee?Class fee\, ingredients\, apron on loan\, & recipe.  \nTakeaways: 8 pieces of plain donuts / waffle dough made in class\, for you to bake at home. \n  \nRemarksPlease bring along the following:  \n  \nAbout Culinary Instructor Madame Simon \nMdme Eiko Simon\n  \n  \n  \n  \n  \n  \n  \n  \n  \n  \nSpoonful’s culinary Instructor Madame Eiko Simon lived in Paris for more than 10 years and mastered her skills at several culinary schools including Boulangerie (Baker shop in French). Armed with her very own home-made French cuisine recipes which was passed down by her mother-in-law\, she now stays in Singapore with her French husband and works as a culinary instructor cum event coordinator at Spoonful. Cooking certification: Ryo-ken (Tokyo 2014) Master Chef Techniques\, La Cuisine des Chefs (Paris 2013-4) French-bread making\, MAISON LANDEMAINE (Paris 2015) Ecole de Boulangerie EBP (Paris 2014) \n  \nTERMS & CONDITIONS APPLY \n 
URL:https://spoonful.sg/event/croissant%e2%80%902/
LOCATION:Origins of Food\, One Farrer Hotel & Spa\, 1 FARRER PARK STATION ROAD SINGAPORE 217562 (FARRER PARK MRT EXIT C / NEXT TO TAXI STAND)\, Singapore\, 217562\, Singapore
CATEGORIES:Featured Spoonful Workshop Events,Spoonful Workshops
ATTACH;FMTTYPE=image/jpeg:https://spoonful.sg/wp-content/uploads/2018/04/mini_IMG_8986.jpg
END:VEVENT
END:VCALENDAR