BEGIN:VCALENDAR
VERSION:2.0
PRODID:-//Spoonful - ECPv5.14.1//NONSGML v1.0//EN
CALSCALE:GREGORIAN
METHOD:PUBLISH
X-WR-CALNAME:Spoonful
X-ORIGINAL-URL:https://spoonful.sg
X-WR-CALDESC:Events for Spoonful
BEGIN:VTIMEZONE
TZID:Asia/Singapore
BEGIN:STANDARD
TZOFFSETFROM:+0800
TZOFFSETTO:+0800
TZNAME:+08
DTSTART:20180101T000000
END:STANDARD
END:VTIMEZONE
BEGIN:VEVENT
DTSTART;TZID=Asia/Singapore:20181003T100000
DTEND;TZID=Asia/Singapore:20181003T120000
DTSTAMP:20260420T091343
CREATED:20180913T025232Z
LAST-MODIFIED:20180926T090334Z
UID:6515-1538560800-1538568000@spoonful.sg
SUMMARY:【Sold Out】Family Fun Cook Out at Canadian International School
DESCRIPTION:Join us with your child for a fun morning of cooking scrumptious honey-nut cheerio snack bars in the Kindergarten kitchen at the Canadian International School (CIS)! \nThis engaging\, hands-on cooking class led by passionate cook and CIS Kindergarten teacher Marcia Janzen\, is a great way for you to observe first-hand what the school’s renowned inquiry and play-based teaching approach looks like in Kindergarten. It is also a perfect opportunity for you to spend some quality time bonding with your child and sharing precious moments together. \n\n\n  \nLOCATION\nCanadian International School\n7 Jurong West Street 41 Singapore 649414 \nVenue: Kindergarten kitchen\nMeeting point: CIS Atrium (kindly arrive 10 minutes before the activity starts) \n\nSCHEDULE\n10:00 am – 10:10 am:  Registration and welcome message from CIS’ Kindergarten Principal\n10:00am -11:00am: Cooking session. Through lots of investigation and play your child will get to develop their sensory and language skills and learn about texture\, form and how to measure and mix.\n11:00 am – 11:20 am: A tour of CIS’ school campus led by Admissions team\n11:20 am – 12:00 pm: Enjoy light refreshments at the school’s Red Dot cafe. \n  \n\nABOUT MARCIA JANZEN\nMarcia is a highly experienced early years educator and has been teaching at CIS for the last nine years.  \n\nABOUT CIS’ INQUIRY AND PLAY-BASED TEACHING APPROACH\nCIS places a strong emphasis on nurturing their youngest learners’ natural sense of curiosity through an engaging\, hands-on\, inquiry and play-based teaching approach. This approach is based on substantial research that shows young children who engage in play develop greater language skills\, social skills\, more empathy\, imagination\, and a better capacity to understand others.  \nCIS’s play-based approach is not a chaotic way of teaching\, rather it provides the optimal balance between a classroom rich in child-initiated play and focused learning activities guided by our teachers. For example in numeracy\, their students explore concepts through hands-on activities such as cooking for learning about measurement and coloured blocks for sorting and classifying. In literacy\, students build their language skills through different oral and written activities including drawing\, art\, and music.   \nPlease book your tickets below or email your RSVP to info@alchemist.sg with the title of this event as the subject header: Family Fun Cook Out at Canadian international school \n* This activity is suitable for children between the age of 18 months and 5 years.\n* Complimentary coffee/tea/snacks will be provided after the event\n \n\nTERMS & CONDITIONS APPLY \n 
URL:https://spoonful.sg/event/family-fun-cook-out-at-canadian-international-school/
LOCATION:Canadian International School – Lakeside Campus\, 7 Jurong West Street 41 Singapore 649414
CATEGORIES:Featured Singapore Culinary Events,Singapore Culinary Events
ATTACH;FMTTYPE=image/jpeg:https://spoonful.sg/wp-content/uploads/2018/09/CIS_Family-Fun-Cook-Out-Hero.jpg
END:VEVENT
END:VCALENDAR