BEGIN:VCALENDAR
VERSION:2.0
PRODID:-//Spoonful - ECPv5.14.1//NONSGML v1.0//EN
CALSCALE:GREGORIAN
METHOD:PUBLISH
X-WR-CALNAME:Spoonful
X-ORIGINAL-URL:https://spoonful.sg
X-WR-CALDESC:Events for Spoonful
BEGIN:VTIMEZONE
TZID:Asia/Singapore
BEGIN:STANDARD
TZOFFSETFROM:+0800
TZOFFSETTO:+0800
TZNAME:+08
DTSTART:20170101T000000
END:STANDARD
END:VTIMEZONE
BEGIN:VEVENT
DTSTART;TZID=Asia/Singapore:20170125T190000
DTEND;TZID=Asia/Singapore:20170125T203000
DTSTAMP:20260420T065649
CREATED:20170116T040208Z
LAST-MODIFIED:20170122T020345Z
UID:1340-1485370800-1485376200@spoonful.sg
SUMMARY:Free Grilling Class at Weber Training Center
DESCRIPTION:Grill at Weber Training Center \nIn conjunction with the launch of the Weber Training Center in Singapore\, Weber will be offering free grilling classes where participants can learn to cook a three-course meal perfect for Christmas and New Year gatherings! Mouth-watering delicious recipes like Roast tenderloin with a mustard and cilantro salsa verde\, Griddled watermelon with balsamic salad and Apple crumble with basil marinated strawberries will impress many a dining guest this festive season. \nHead out to the Weber Store to gear up your grilling range. And while you’re at it\, do try your hand and master a couple of recipes to impress your friends and family! \nBook your slot for the interactive cooking class soon by call +65 3159 1184 (Mon to Sat\, 10.00am to 7.00pm) or email SupportAsia@WeberStephen.com \n 
URL:https://spoonful.sg/event/free-grilling-class-at-weber-training-center/
CATEGORIES:Featured Singapore Culinary Events,Singapore Culinary Events
ATTACH;FMTTYPE=image/jpeg:https://spoonful.sg/wp-content/uploads/2017/01/2017.01_grill-photo.jpg
END:VEVENT
END:VCALENDAR