BEGIN:VCALENDAR
VERSION:2.0
PRODID:-//Spoonful - ECPv5.14.1//NONSGML v1.0//EN
CALSCALE:GREGORIAN
METHOD:PUBLISH
X-WR-CALNAME:Spoonful
X-ORIGINAL-URL:https://spoonful.sg
X-WR-CALDESC:Events for Spoonful
BEGIN:VTIMEZONE
TZID:Asia/Singapore
BEGIN:STANDARD
TZOFFSETFROM:+0800
TZOFFSETTO:+0800
TZNAME:+08
DTSTART:20180101T000000
END:STANDARD
END:VTIMEZONE
BEGIN:VEVENT
DTSTART;TZID=Asia/Singapore:20180818T103000
DTEND;TZID=Asia/Singapore:20180818T133000
DTSTAMP:20260417T222800
CREATED:20180620T042550Z
LAST-MODIFIED:20180623T141240Z
UID:5755-1534588200-1534599000@spoonful.sg
SUMMARY:(Sold Out!)Hello Kitty & Pikachu Character Bread Baking Class
DESCRIPTION:Who could resist these adorable Hello Kitty and Pikachu character bread? Stuffed with apple jam and pumpkin jam and made with yogurt and pumpkin bread dough for its natural colouring\, these kawaii pieces of edible art are fun to make and delicious to eat! Not only can you make these amazing buns\, with the same bread dough taught in class\, you’ll also be learning how to make lovely bread cones stuffed with cream cheese & lemon cream! Come join us in this fun and exciting hands-on class! \nClass Format / Program\nHands on \nMenu\nHello Kitty Buns (made with yogurt dough)\nPikachu Buns (made with pumpkin dough)\nLemon Cream Bread Cones (made with yogurt dough)\nCream Cheese Bread Cones (made with pumpkin dough) \n\nTakeaway\nAbout 2 – 3 pieces each per variety. \n  \nWhat’s included in the ticket fee?\nClass fee\, ingredients\, apron on loan\, & recipe. \n  \nRemarks \n\nPlease bring along a container box or bag to bring the baked bread home. For hygiene purposes\, please remove rings and bracelets during the classes.  For a space for children\, please  enquire at info@alchemist.sg\nThe cream horn mould that we will be using for the Cone Bread is not sold in Singapore. Should you wish to make this cone bread yourself at home\, you may purchase the mould from us in class. Only cash payment is accepted in class. For other modes of payment\, please contact info@alchemist.sg to enquire.\n\nChildren Fare\nThis class is suitable for children 4 – 12 years old. We recommend the ratio of 1 adult to 1 child. Both adult & child will share 1 portion of dough.\nAdult fare will be charged for 13 year olds and above. \n  \nAbout Culinary Instructor Madame Simon \nMdme Eiko Simon\n  \n  \n  \n  \n  \n  \n  \n  \n  \n  \nSpoonful’s culinary Instructor Madame Eiko Simon lived in Paris for more than 10 years and mastered her skills at several culinary schools including Boulangerie (Baker shop in French). Armed with her very own home-made French cuisine recipes which was passed down by her mother-in-law\, she now stays in Singapore with her French husband and works as a culinary instructor cum event coordinator at Spoonful. Cooking certification: Ryo-ken (Tokyo 2014) Master Chef Techniques\, La Cuisine des Chefs (Paris 2013-4) French-bread making\, MAISON LANDEMAINE (Paris 2015) Ecole de Boulangerie EBP (Paris 2014) \n  \nTERMS & CONDITIONS APPLY \n 
URL:https://spoonful.sg/event/hello-kitty-pikachu-character-bread-baking-class/
LOCATION:Origins of Food\, One Farrer Hotel & Spa\, 1 FARRER PARK STATION ROAD SINGAPORE 217562 (FARRER PARK MRT EXIT C / NEXT TO TAXI STAND)\, Singapore\, 217562\, Singapore
CATEGORIES:Featured Spoonful Workshop Events,Spoonful Workshops
ATTACH;FMTTYPE=image/jpeg:https://spoonful.sg/wp-content/uploads/2018/06/Hello-Kitty-Pikachu-Bread-Class-01_rez.jpg
END:VEVENT
END:VCALENDAR