BEGIN:VCALENDAR
VERSION:2.0
PRODID:-//Spoonful - ECPv5.14.1//NONSGML v1.0//EN
CALSCALE:GREGORIAN
METHOD:PUBLISH
X-WR-CALNAME:Spoonful
X-ORIGINAL-URL:https://spoonful.sg
X-WR-CALDESC:Events for Spoonful
BEGIN:VTIMEZONE
TZID:Asia/Singapore
BEGIN:STANDARD
TZOFFSETFROM:+0800
TZOFFSETTO:+0800
TZNAME:+08
DTSTART:20180101T000000
END:STANDARD
END:VTIMEZONE
BEGIN:VEVENT
DTSTART;TZID=Asia/Singapore:20180620T140000
DTEND;TZID=Asia/Singapore:20180620T160000
DTSTAMP:20260416T210726
CREATED:20180606T031520Z
LAST-MODIFIED:20180618T101106Z
UID:5653-1529503200-1529510400@spoonful.sg
SUMMARY:(Sold Out)Master Class of Traditional Chicken Rice with Chatterbox Executive Sous Chef
DESCRIPTION:Master Class with Chatterbox Executive Sous Chef “Liew Tian Heong”. \nWith over 30 years of extensive experience in culinary industry\, Executive Sous Chef Liew is a driving force behind the recognition of Chatterbox’s legendary Mandarin Chicken Rice and other  local delights such as the Chatterbox’s Lobster Laksa\, King Prawn Fried Hokkien Noodles\, and many more. \nFor one day only\, roll up your sleeves and join Chef Liew as he takes you on a journey of making Traditional Chicken Rice. \nTERMS & CONDITIONS APPLY \nChicken Rice Master Class
URL:https://spoonful.sg/event/oue-social-kitchen-chicken-rice-20-jun/
LOCATION:OUE Social Kitchen\, 6a Shenton Way #03-02/03\, 068809\, Singapore
CATEGORIES:Featured Singapore Culinary Events,Singapore Culinary Events
ATTACH;FMTTYPE=image/png:https://spoonful.sg/wp-content/uploads/2018/06/CHEFLIEW_20JUN-A4WEB-1.png
ORGANIZER;CN="OUE%20Social%20Kitchen":MAILTO:socialkitchen@oue.com.sg
END:VEVENT
END:VCALENDAR