BEGIN:VCALENDAR
VERSION:2.0
PRODID:-//Spoonful - ECPv5.14.1//NONSGML v1.0//EN
CALSCALE:GREGORIAN
METHOD:PUBLISH
X-WR-CALNAME:Spoonful
X-ORIGINAL-URL:https://spoonful.sg
X-WR-CALDESC:Events for Spoonful
BEGIN:VTIMEZONE
TZID:Asia/Singapore
BEGIN:STANDARD
TZOFFSETFROM:+0800
TZOFFSETTO:+0800
TZNAME:+08
DTSTART:20190101T000000
END:STANDARD
END:VTIMEZONE
BEGIN:VEVENT
DTSTART;TZID=Asia/Singapore:20190731T190000
DTEND;TZID=Asia/Singapore:20190731T203000
DTSTAMP:20260416T163956
CREATED:20190709T022101Z
LAST-MODIFIED:20190709T022132Z
UID:9534-1564599600-1564605000@spoonful.sg
SUMMARY:OUE Social Kitchen Dinner Nights - Mentaiko Wafu Pasta (31 Jul)
DESCRIPTION:JOURNEY TO WORLD OF JAPANESE CUISINE – MENTAIKO WAFU PASTA DINNER NIGHTS \n  \nFrom 25 – 31 JUL\, hand-make your own bowl of MENTAIKO WAFU PASTA from scratch\, with resident chef’s guidance\, recipe and ingredients all provided for! \nReward yourself by topping up another $3/- for a glass of Coke\, Sprite or Green Tea! \nAvailable 25 – 31 JUL\, WEEKNIGHTS\, 7PM – 830PM\, $18/PAX ONLY. \n\n\n\n\n\n  \n  \nVisit OUE Social Kitchen at Downtown Gallery or follow on Facebook to find out more!\nPictures are for illustration purposes only\nStrictly no refunds\, exchange or cancellations allowed\nClass will commence with a minimum of 5 pax \n\n\nTERMS & CONDITIONS APPLY \n\n\n 
URL:https://spoonful.sg/event/oue-social-kitchen-dinner-nights-mentaiko-wafu-pasta-31-jul/
LOCATION:OUE Social Kitchen\, 6a Shenton Way #03-02/03\, 068809\, Singapore
CATEGORIES:Featured Singapore Culinary Events,Singapore Culinary Events
ATTACH;FMTTYPE=image/png:https://spoonful.sg/wp-content/uploads/2019/03/Mentaiko-Wafu-Pasta.png
ORGANIZER;CN="OUE%20Social%20Kitchen":MAILTO:socialkitchen@oue.com.sg
END:VEVENT
END:VCALENDAR