BEGIN:VCALENDAR
VERSION:2.0
PRODID:-//Spoonful - ECPv5.14.1//NONSGML v1.0//EN
CALSCALE:GREGORIAN
METHOD:PUBLISH
X-WR-CALNAME:Spoonful
X-ORIGINAL-URL:https://spoonful.sg
X-WR-CALDESC:Events for Spoonful
BEGIN:VTIMEZONE
TZID:Asia/Singapore
BEGIN:STANDARD
TZOFFSETFROM:+0800
TZOFFSETTO:+0800
TZNAME:+08
DTSTART:20180101T000000
END:STANDARD
END:VTIMEZONE
BEGIN:VEVENT
DTSTART;TZID=Asia/Singapore:20180525T190000
DTEND;TZID=Asia/Singapore:20180525T200000
DTSTAMP:20260420T131217
CREATED:20180502T041819Z
LAST-MODIFIED:20180502T041819Z
UID:5479-1527274800-1527278400@spoonful.sg
SUMMARY:OUE Social Kitchen Gourmet Veggie Nights - Lentil Burger 25 May
DESCRIPTION:Lentil Burger – Crispy on outside\, tender on the inside. A flavourful vegetarian burger that is so satisfying and worthy to forsake your meat.  \nLet’s eat clean with us and hand make your own lentil burger from scratch.  \n  \nResident Chef’s assistance\, recipe and ingredients provided for. \nBest of all\, the friendly team from OUE Social Kitchen will clean up after you.
URL:https://spoonful.sg/event/oue-social-kitchen-gourmet-veggie-nights-lentil-burger-25-may/
LOCATION:OUE Social Kitchen\, 6a Shenton Way #03-02/03\, 068809\, Singapore
CATEGORIES:Featured Singapore Culinary Events,Singapore Culinary Events
ATTACH;FMTTYPE=image/jpeg:https://spoonful.sg/wp-content/uploads/2018/05/Lentil-Burger_square.jpg
ORGANIZER;CN="OUE%20Social%20Kitchen":MAILTO:socialkitchen@oue.com.sg
END:VEVENT
END:VCALENDAR