BEGIN:VCALENDAR
VERSION:2.0
PRODID:-//Spoonful - ECPv5.14.1//NONSGML v1.0//EN
CALSCALE:GREGORIAN
METHOD:PUBLISH
X-WR-CALNAME:Spoonful
X-ORIGINAL-URL:https://spoonful.sg
X-WR-CALDESC:Events for Spoonful
BEGIN:VTIMEZONE
TZID:Asia/Singapore
BEGIN:STANDARD
TZOFFSETFROM:+0800
TZOFFSETTO:+0800
TZNAME:+08
DTSTART:20190101T000000
END:STANDARD
END:VTIMEZONE
BEGIN:VEVENT
DTSTART;TZID=Asia/Singapore:20190219T120000
DTEND;TZID=Asia/Singapore:20190219T130000
DTSTAMP:20260424T141014
CREATED:20190131T140357Z
LAST-MODIFIED:20190131T143301Z
UID:8114-1550577600-1550581200@spoonful.sg
SUMMARY:OUE Social Kitchen Lunch Party - 8 Treasure Rice (19 Feb)
DESCRIPTION:Join us this FEBulious month and stand a chance to win 2 hours usage of cooking station (worth $96). \nEIGHT TREASURE RICE LUNCH PARTY \n1 – 22FEB | 12NN – 1PM | WEEKDAYS \n$15/pax \n  \nTo participate:\nStep 1: JOIN either January Lunch Party or Dinner Night \nStep 2: TAG @ouesocialkitchen on Facebook or Instagram with your creation \nStep 3: COMMENT who you would like to share the prize with and why\n(Best comment wins!) \nWinner will be announced on 1MAR. \nWith chef’s assistance\, recipe and ingredients provided for. \n\n\n\n\n\nVisit OUE Social Kitchen at Downtown Gallery or follow on Facebook to find out more!\nPictures are for illustration purposes only\nStrictly no refunds\, exchange or cancellations allowed\nClass will commence with a minimum of 5 pax \n\n\nTERMS & CONDITIONS APPLY
URL:https://spoonful.sg/event/oue-social-kitchen-lunch-party-8-treasure-rice-19-feb/
LOCATION:OUE Social Kitchen\, 6a Shenton Way #03-02/03\, 068809\, Singapore
CATEGORIES:Featured Singapore Culinary Events,Singapore Culinary Events
ATTACH;FMTTYPE=image/jpeg:https://spoonful.sg/wp-content/uploads/2019/01/OUE-Social-Kitchen-2.jpg
ORGANIZER;CN="OUE%20Social%20Kitchen":MAILTO:socialkitchen@oue.com.sg
END:VEVENT
END:VCALENDAR