BEGIN:VCALENDAR
VERSION:2.0
PRODID:-//Spoonful - ECPv5.14.1//NONSGML v1.0//EN
CALSCALE:GREGORIAN
METHOD:PUBLISH
X-WR-CALNAME:Spoonful
X-ORIGINAL-URL:https://spoonful.sg
X-WR-CALDESC:Events for Spoonful
BEGIN:VTIMEZONE
TZID:Asia/Singapore
BEGIN:STANDARD
TZOFFSETFROM:+0800
TZOFFSETTO:+0800
TZNAME:+08
DTSTART:20190101T000000
END:STANDARD
END:VTIMEZONE
BEGIN:VEVENT
DTSTART;TZID=Asia/Singapore:20190807T120000
DTEND;TZID=Asia/Singapore:20190807T130000
DTSTAMP:20260420T025232
CREATED:20190729T071523Z
LAST-MODIFIED:20190729T071554Z
UID:9706-1565179200-1565182800@spoonful.sg
SUMMARY:OUE Social Kitchen Lunch Party - KING PRAWNS MEE SIAM (7 Aug)
DESCRIPTION:This August\, join us in celebrating Singapore 54th Birthday with KING PRAWNS MEE SIAM at our lunch party. \nFrom 1 – 23 Aug\, cook your own King Prawn Mee Siam with our resident chef’s guidance\, recipe\, and ingredients provided for! \nDo reward yourself by topping up another $3/- for a glass of Coke\, Sprite or Green Tea! \nPs: it’s our job to clean up after you! \n  \nVisit OUE Social Kitchen at Downtown Gallery or follow on Facebook to find out more! \n\n\n\n\n\n\nPictures are for illustration purposes only\nStrictly no refunds\, exchange or cancellations allowed\nThe class will commence with a minimum of 5 pax \n  \n\n\nTERMS & CONDITIONS APPLY \n\n\n\n 
URL:https://spoonful.sg/event/oue-social-kitchen-lunch-party-king-prawn-mee-siam-7-aug/
LOCATION:OUE Social Kitchen\, 6a Shenton Way #03-02/03\, 068809\, Singapore
CATEGORIES:Featured Singapore Culinary Events,Singapore Culinary Events
ATTACH;FMTTYPE=image/jpeg:https://spoonful.sg/wp-content/uploads/2019/07/Lunch-Party-King-Prawns-Mee-Siam_rez.jpg
ORGANIZER;CN="OUE%20Social%20Kitchen":MAILTO:socialkitchen@oue.com.sg
END:VEVENT
END:VCALENDAR