BEGIN:VCALENDAR
VERSION:2.0
PRODID:-//Spoonful - ECPv5.14.1//NONSGML v1.0//EN
CALSCALE:GREGORIAN
METHOD:PUBLISH
X-WR-CALNAME:Spoonful
X-ORIGINAL-URL:https://spoonful.sg
X-WR-CALDESC:Events for Spoonful
BEGIN:VTIMEZONE
TZID:Asia/Singapore
BEGIN:STANDARD
TZOFFSETFROM:+0800
TZOFFSETTO:+0800
TZNAME:+08
DTSTART:20180101T000000
END:STANDARD
END:VTIMEZONE
BEGIN:VEVENT
DTSTART;TZID=Asia/Singapore:20181119T120000
DTEND;TZID=Asia/Singapore:20181119T130000
DTSTAMP:20260419T173142
CREATED:20181015T021944Z
LAST-MODIFIED:20181015T021946Z
UID:7026-1542628800-1542632400@spoonful.sg
SUMMARY:OUE Social Kitchen Lunch Party - Kurobuta Don (19 Nov)
DESCRIPTION:Enjoy A Truly Japanese Lunch Experience with us!  \n\n  \nFrom 1 – 23 Nov\, hand-make your own Kurobuta Don from scratch with our Resident Chef’s assistance\, recipe\, and ingredients provided for. \nKurobuta Don – A Japanese rice dish with heavenly flavourful black pork. Bite into the super juicy and tender meat with onsen egg and Japanese rice\, definitely a meal that you will not regret! \nHead over to OUE Social Kitchen and in one hour\, indulge in this gastronomic experience of making Kurobuta Don. \nTop up another $3/- for a glass of Coke\, Sprite or Green Tea! \nPs: it’s our job to clean up after you. \n  \nVisit OUE Social Kitchen at Downtown Gallery or follow on Facebook to find out more!\nPictures are for illustration purposes only\nStrictly no refunds\, exchange or cancellations allowed \n\n\nTERMS & CONDITIONS APPLY \n \n 
URL:https://spoonful.sg/event/oue-social-kitchen-lunch-party-kurobuta-don-19-nov/
LOCATION:OUE Social Kitchen\, 6a Shenton Way #03-02/03\, 068809\, Singapore
CATEGORIES:Featured Singapore Culinary Events,Singapore Culinary Events
ATTACH;FMTTYPE=image/jpeg:https://spoonful.sg/wp-content/uploads/2018/10/LUnch-Party-Kurobuta-Don__hero.jpg
ORGANIZER;CN="OUE%20Social%20Kitchen":MAILTO:socialkitchen@oue.com.sg
END:VEVENT
END:VCALENDAR