BEGIN:VCALENDAR
VERSION:2.0
PRODID:-//Spoonful - ECPv5.14.1//NONSGML v1.0//EN
CALSCALE:GREGORIAN
METHOD:PUBLISH
X-WR-CALNAME:Spoonful
X-ORIGINAL-URL:https://spoonful.sg
X-WR-CALDESC:Events for Spoonful
BEGIN:VTIMEZONE
TZID:Asia/Singapore
BEGIN:STANDARD
TZOFFSETFROM:+0800
TZOFFSETTO:+0800
TZNAME:+08
DTSTART:20200101T000000
END:STANDARD
END:VTIMEZONE
BEGIN:VEVENT
DTSTART;TZID=Asia/Singapore:20200414T120000
DTEND;TZID=Asia/Singapore:20200414T130000
DTSTAMP:20260418T025445
CREATED:20200401T030216Z
LAST-MODIFIED:20200406T052201Z
UID:11676-1586865600-1586869200@spoonful.sg
SUMMARY:Cancelled - OUE Social Kitchen Lunch Party - Laksa Bread Bowl (14 Apr)
DESCRIPTION:Be adventurous this April with OUE Social Kitchen.\n\nPresenting to you Chicken Laksa in a bread bowl.\n\nDate/Time: 1 – 24 APR (12:00pm – 1:00pm) @ $15/pax.\n\n \nMenu: Chicken Laksa Bread Bowl\n\nP.S. We will clean up after you!\n\n\nRecipe\, Ingredients\, and Resident Chef guidance provided for. \n\n\n\n\nVisit OUE Social Kitchen at Downtown Gallery or follow on Facebook to find out more! \n\n\n\n\n\n\nPictures are for illustration purposes only\nStrictly no refunds\, exchange or cancellations allowed\nThe class will commence with a minimum of 5 pax \n  \n\n\nTERMS & CONDITIONS APPLY
URL:https://spoonful.sg/event/oue-social-kitchen-lunch-party-laksa-bread-bowl-14-apr/
LOCATION:OUE Social Kitchen\, 6a Shenton Way #03-02/03\, 068809\, Singapore
CATEGORIES:Featured Singapore Culinary Events,Singapore Culinary Events
ATTACH;FMTTYPE=image/jpeg:https://spoonful.sg/wp-content/uploads/2020/04/CHICKENLAKSABREADBOWL_WEB.jpg
ORGANIZER;CN="OUE%20Social%20Kitchen":MAILTO:socialkitchen@oue.com.sg
END:VEVENT
END:VCALENDAR