BEGIN:VCALENDAR
VERSION:2.0
PRODID:-//Spoonful - ECPv5.14.1//NONSGML v1.0//EN
CALSCALE:GREGORIAN
METHOD:PUBLISH
X-WR-CALNAME:Spoonful
X-ORIGINAL-URL:https://spoonful.sg
X-WR-CALDESC:Events for Spoonful
BEGIN:VTIMEZONE
TZID:Asia/Singapore
BEGIN:STANDARD
TZOFFSETFROM:+0800
TZOFFSETTO:+0800
TZNAME:+08
DTSTART:20180101T000000
END:STANDARD
END:VTIMEZONE
BEGIN:VEVENT
DTSTART;TZID=Asia/Singapore:20181213T120000
DTEND;TZID=Asia/Singapore:20181213T130000
DTSTAMP:20260420T075641
CREATED:20181116T082849Z
LAST-MODIFIED:20181116T082849Z
UID:7389-1544702400-1544706000@spoonful.sg
SUMMARY:SOLD OUT - OUE Social Kitchen Lunch Party - Seafood Paella (13 Dec)
DESCRIPTION:Enjoy A Truly Spanish Lunch Experience with us!  \n  \n\n\nRedefine your 60mins of “recess time” with us!\nFrom 3 – 21 DEC\, cook your own SEAFOOD PAELLA from scratch with friends\, colleagues and even strangers! \nResident Chef’s assistance\, recipe and ingredients provided for.\nTop up another $3/- for a glass of Coke\, Sprite or Green Tea! \nPs: it’s our job to clean up after you. \nVisit OUE Social Kitchen at Downtown Gallery or follow on Facebook to find out more!\nPictures are for illustration purposes only\nStrictly no refunds\, exchange or cancellations allowed \n\n\nTERMS & CONDITIONS APPLY \n \n 
URL:https://spoonful.sg/event/oue-social-kitchen-lunch-party-seafood-paella-dec-13/
LOCATION:OUE Social Kitchen\, 6a Shenton Way #03-02/03\, 068809\, Singapore
CATEGORIES:Singapore Culinary Events
ATTACH;FMTTYPE=image/jpeg:https://spoonful.sg/wp-content/uploads/2018/11/Lunch-Party-Seafood-Paella_ero.jpg
ORGANIZER;CN="OUE%20Social%20Kitchen":MAILTO:socialkitchen@oue.com.sg
END:VEVENT
END:VCALENDAR