BEGIN:VCALENDAR
VERSION:2.0
PRODID:-//Spoonful - ECPv5.14.1//NONSGML v1.0//EN
CALSCALE:GREGORIAN
METHOD:PUBLISH
X-WR-CALNAME:Spoonful
X-ORIGINAL-URL:https://spoonful.sg
X-WR-CALDESC:Events for Spoonful
BEGIN:VTIMEZONE
TZID:Asia/Singapore
BEGIN:STANDARD
TZOFFSETFROM:+0800
TZOFFSETTO:+0800
TZNAME:+08
DTSTART:20170101T000000
END:STANDARD
END:VTIMEZONE
BEGIN:VEVENT
DTSTART;TZID=Asia/Singapore:20170307T110000
DTEND;TZID=Asia/Singapore:20170307T130000
DTSTAMP:20260421T032616
CREATED:20170206T120552Z
LAST-MODIFIED:20170227T030553Z
UID:1537-1488884400-1488891600@spoonful.sg
SUMMARY:Yakuzen Cooking (About "Qi")
DESCRIPTION:Learn to cook simple & healthy meals based on Traditional Chinese Medicine (TCM)  theory. Beginners welcome! \nThis program is currently only available in Japanese language. Please contact us directly at info@alchemist.sg should you be interested in an English class.
URL:https://spoonful.sg/event/yakuzen-cooking-about-qi/
LOCATION:La Terre\, 11 UPPER CIRCULAR RD\, 058409\, Singapore
CATEGORIES:Featured Singapore Culinary Events,Singapore Culinary Events
ATTACH;FMTTYPE=image/jpeg:https://spoonful.sg/wp-content/uploads/2017/02/IMG_4928.jpg
ORGANIZER;CN="Zenlicious":MAILTO:Zenlicious.fal@gmail.com
END:VEVENT
END:VCALENDAR