BEGIN:VCALENDAR
VERSION:2.0
PRODID:-//Spoonful - ECPv5.14.1//NONSGML v1.0//EN
CALSCALE:GREGORIAN
METHOD:PUBLISH
X-WR-CALNAME:Spoonful
X-ORIGINAL-URL:https://spoonful.sg
X-WR-CALDESC:Events for Spoonful
BEGIN:VTIMEZONE
TZID:Asia/Singapore
BEGIN:STANDARD
TZOFFSETFROM:+0800
TZOFFSETTO:+0800
TZNAME:+08
DTSTART:20220101T000000
END:STANDARD
END:VTIMEZONE
BEGIN:VEVENT
DTSTART;VALUE=DATE:20220303
DTEND;VALUE=DATE:20220324
DTSTAMP:20260426T113633
CREATED:20220309T082615Z
LAST-MODIFIED:20220309T082726Z
UID:14782-1646265600-1648079999@spoonful.sg
SUMMARY:Kyo Yasai (Kyoto Vegetables) Fair
DESCRIPTION:Did you know that Kyo Yasai are heirloom vegetables that originate from Kyoto where “Kyo” means “Capital” (referring to Kyoto during the Heian period) and “Yasai” translates to “vegetables”? Hence\, Kyoto vegetables are deemed fit for a king! \n  \nKyo Yasai (Kyoto Vegetables) Fair is now serving at 4 celebrated restaurants – Pixy Restaurant & Bar\, Supply & Demand Esplanade\, Teppan Bar Q & Torikin! \nJoin us in discovering and savouring this top-rated class of vegetables now! \n  \nLimited Kyoto Menu from now till 23 March 2022* .\nT&Cs apply. Please check with individual restaurants on their respective dates \n  \nMENU \n  \nKyoto Yasai Fair 3March to 23March*\n*Duration varies  among individual restaurants. Please check the respective schedule below. \nPixy Restaurant & Bar  (3 – 16 March)\nGrilled Sakoshi Bay Oysters S$38\n(Grilled oysters. Mushroom Consommé and Kyoto Garland Chrysanthemum Fragrance.)\nBuri Kabura S$35\n(Lightly smoked Buri (yellowtail)\, Kyoto Shogoin Kabura (Turnip) Jus and Puree. \nSupply ＆ Demand Esplanade (9 – 23 March)\n– Yasai Trio $23\n(Cabbage\, impossible beef\, Kyoto Carrot Purée\, Yam\, Spring Onion\, Chives\, Vegetable Jus)\n– Scallop Crudo  $23\n(Kyoto Daiko\, Cured Scallops\, Yuzu vinaigrette\, Pear\, chives\, Clam Chips) \nTeppan Bar Q  (3 – 16 March)\n– Grilled Kujyo Negi (Leek) Pancake\nwith assorted Kyo Yasai (Kyoto Vegetables)\nS$20\n– Hokkaido Scallops in Butter Sauce\nwith Shungiku Garland Chrysanthemum\nS$28 \nTorikin (3 -16 March)\n– Shungiku Garland Chrysanthemum with Yuzu\nS$8\n– Kyoto Seigoin Daikon with Carrots in Onion Dressing\nS$16
URL:https://spoonful.sg/event/kyo-yasai-kyoto-vegetables-fair/
CATEGORIES:Featured Singapore Culinary Events,Singapore Culinary Events
ATTACH;FMTTYPE=image/jpeg:https://spoonful.sg/wp-content/uploads/2022/03/Kyo-Yasai-Fair-Ad-3-21-mar.jpg
END:VEVENT
END:VCALENDAR