BEGIN:VCALENDAR
VERSION:2.0
PRODID:-//Spoonful - ECPv5.14.1//NONSGML v1.0//EN
CALSCALE:GREGORIAN
METHOD:PUBLISH
X-WR-CALNAME:Spoonful
X-ORIGINAL-URL:https://spoonful.sg
X-WR-CALDESC:Events for Spoonful
BEGIN:VTIMEZONE
TZID:Asia/Singapore
BEGIN:STANDARD
TZOFFSETFROM:+0800
TZOFFSETTO:+0800
TZNAME:+08
DTSTART:20170101T000000
END:STANDARD
END:VTIMEZONE
BEGIN:VEVENT
DTSTART;TZID=Asia/Singapore:20170217T110000
DTEND;TZID=Asia/Singapore:20170217T130000
DTSTAMP:20260426T081149
CREATED:20161228T020832Z
LAST-MODIFIED:20170131T043115Z
UID:997-1487329200-1487336400@spoonful.sg
SUMMARY:[Sold Out] Weekday Brioche Class! -Baking with Madame Simon-
DESCRIPTION:Sorry\, this event is only available in Japanese.
URL:https://spoonful.sg/event/weekday-brioche-class-baking-with-madame-simon/
CATEGORIES:Featured Spoonful Workshop Events,Spoonful Workshops
ATTACH;FMTTYPE=image/jpeg:https://spoonful.sg/wp-content/uploads/2016/12/Brioche-baking_Spoonful_03.jpg
END:VEVENT
END:VCALENDAR