BEGIN:VCALENDAR
VERSION:2.0
PRODID:-//Spoonful - ECPv5.14.1//NONSGML v1.0//EN
CALSCALE:GREGORIAN
METHOD:PUBLISH
X-WR-CALNAME:Spoonful
X-ORIGINAL-URL:https://spoonful.sg
X-WR-CALDESC:Events for Spoonful
BEGIN:VTIMEZONE
TZID:Asia/Singapore
BEGIN:STANDARD
TZOFFSETFROM:+0800
TZOFFSETTO:+0800
TZNAME:+08
DTSTART:20170101T000000
END:STANDARD
END:VTIMEZONE
BEGIN:VEVENT
DTSTART;TZID=Asia/Singapore:20170227T100000
DTEND;TZID=Asia/Singapore:20170227T120000
DTSTAMP:20260426T064551
CREATED:20170127T074544Z
LAST-MODIFIED:20170224T020457Z
UID:1479-1488189600-1488196800@spoonful.sg
SUMMARY:Weekday Brioche Class! -Baking with Madame Simon-
DESCRIPTION:Sorry\, this event is only available in Japanese.
URL:https://spoonful.sg/event/weekday-brioche-class-baking-with-madame-simon-2/
LOCATION:Dulcet & Studio\, 177 River Valley Road\, Liang Court Shopping Centre\, #01-41/42 \, 179030 \, Singapore
CATEGORIES:Featured Spoonful Workshop Events,Spoonful Workshops
ATTACH;FMTTYPE=image/jpeg:https://spoonful.sg/wp-content/uploads/2017/01/IMG_4048.jpg
END:VEVENT
END:VCALENDAR