BEGIN:VCALENDAR
VERSION:2.0
PRODID:-//Spoonful - ECPv5.14.1//NONSGML v1.0//EN
CALSCALE:GREGORIAN
METHOD:PUBLISH
X-WR-CALNAME:Spoonful
X-ORIGINAL-URL:https://spoonful.sg
X-WR-CALDESC:Events for Spoonful
BEGIN:VTIMEZONE
TZID:Asia/Singapore
BEGIN:STANDARD
TZOFFSETFROM:+0800
TZOFFSETTO:+0800
TZNAME:+08
DTSTART:20170101T000000
END:STANDARD
END:VTIMEZONE
BEGIN:VEVENT
DTSTART;TZID=Asia/Singapore:20170311T143000
DTEND;TZID=Asia/Singapore:20170311T163000
DTSTAMP:20260426T064610
CREATED:20170214T072949Z
LAST-MODIFIED:20170307T002155Z
UID:1738-1489242600-1489249800@spoonful.sg
SUMMARY:Spring 3D Cup Cake Class! -From baking to icing!-
DESCRIPTION:  \nJoin us in an early celebration for Spring! What about trying your hands at making some 3D cupcakes for this EASTER? \n\n\n\n\n\n\n\n\n\nThis is a Hands-on baking class\n1 child gets to go for free with 1 paying adult! (T&C applies)\n \nWhat you can learn at the class\n– Baking of mini cup cakes (carrot cake flavour) for tasting after the class by the group\n– Preparing cream (Cream Cheese Frosting) demo by the instructor \n– Cream Decoration to 4 cup cakes by individual\n– Icing decoration to mini cookies by individual\n– Cup cake decoration by individual\n \nWhat’s included in the ticket fee\n– Class fee\n– Ingredients\n– Apron rental\n– Recipe\n– Drinks\n– All attendees will receive 25% off voucher of Candylicious (valid for shopping on day of event)!\n \nRemarks \nTake home the cupcakes that you baked! Please bring along a storage box (big enough for 4 cup cakes) and cooler bag for preservation of the cupcake & icing during your commute after class.\n \nInstructor Miki Kawahara\nAbout Culinary Instructor \n\nSpoonful’s Culinary Instructor Miki Kawahara used to stay in New York for 6 years. There\, she learnt and gathered her culinary skills from Wilton\, mastering the all American\, New York style baking . \nAfter her stay in NY\, she started to teach baking classes to students at the famous Cooking Studio in Tokyo\, Japan.  Ove there she became an event manager for a few years. She is now a certificated icing cookie and cupcake decoration instructor of JSA：Japan Salonaise Association. \nCurrently\, she stays in Singapore and works as a culinary instructor and an event coordinator for Team Spoonful. \n\n \n\n\n\n\n\n\n\n\n\n\n\n\n\nTerms & Conditions \n-Copyright of photos and video shooting taken by Spoonful (Alchemist Pte Ltd) and its partners during the event will belong to Spoonful. Spoonful has the right to use the photos and video shooting for PR and marketing purpose. \n-The event organizer “Spoonful (Alchemist Pte Ltd)” is not responsible for any personal food allergy. Each attendee must take his/her own responsibility for any allergy. \n-Spoonful will notify 3 days prior the event day to all the attendees if the event has to be cancelled. \n-There will be no refund unless the event itself is cancelled. \n-Spoonful will send future events or promo info to attendees e-mail address after the event. \nKids Seat \nFree Kids seats are applicable to children less than 12 years old. Only 1 kid seat will be free with 1 accompanying paid adult fee. Kid share the culinary kit with adult. \nIf any attendee would like to accompany more than 2 kids\, please contact the organizer in advance at info@alchemist.sg. Due to the limited space\, there will be cases that we can’t accept to accompany any extra kids attendees. \nPlease note that the event organizer Spoonful ( Alchemist Pte Ltd ) won’t provide baby sitting service.
URL:https://spoonful.sg/event/spring-3d-cup-cake-class-from-baking-to-icing/
LOCATION:Candylicious @ Vivo City\, VivoCity #02-41\, 1 Harbourfront Walk\, singapore\, 098585\, Singapore
CATEGORIES:Featured Spoonful Workshop Events,Spoonful Workshops
ATTACH;FMTTYPE=image/jpeg:https://spoonful.sg/wp-content/uploads/2017/02/Spring-3D-Cupcake_03_rez.jpg
END:VEVENT
END:VCALENDAR