BEGIN:VCALENDAR
VERSION:2.0
PRODID:-//Spoonful - ECPv5.14.1//NONSGML v1.0//EN
CALSCALE:GREGORIAN
METHOD:PUBLISH
X-WR-CALNAME:Spoonful
X-ORIGINAL-URL:https://spoonful.sg
X-WR-CALDESC:Events for Spoonful
BEGIN:VTIMEZONE
TZID:Asia/Singapore
BEGIN:STANDARD
TZOFFSETFROM:+0800
TZOFFSETTO:+0800
TZNAME:+08
DTSTART:20170101T000000
END:STANDARD
END:VTIMEZONE
BEGIN:VEVENT
DTSTART;TZID=Asia/Singapore:20170318T150000
DTEND;TZID=Asia/Singapore:20170318T170000
DTSTAMP:20260426T064459
CREATED:20170210T171916Z
LAST-MODIFIED:20170215T051219Z
UID:1679-1489849200-1489856400@spoonful.sg
SUMMARY:Weekend Galetto & Crepe Class! -Madame Simon's Kitchen-
DESCRIPTION:About The Class \nThis class will be hands-on of Galetto & Crepe cooking. In the end of the class\, attendees will have Galetto & Crepe lunch together. \nThis class (18th March March 2017) will be conducted in English language only . The Japanese class is held on 13th March\, Monday\, at 11:00-13:00.   \nMenu of Cooking \n-Galetto　Complète　 \n-Crepe with salted caramel cream and roasted apple or banana \nWhat you can learn at the class \nMixing process of galetto and crepe(demo) \n-Cooking Galetto (hands on) \n-Cooking Crepe(hands on) \n-French Food Culture \n\n\n\n\n\n\n\n\n\n \nクラス内容：\n-ガレットの生地の作り方\n-クレープの生地の作り方\n-ガレットの焼き方\n⁻クレープの焼き方\n \n \nWhat are included in the ticket fee?\nClass fee\, ingredients\, apron\, bread to bring back\, lunch & recipe.\nクラスのご料金に含まれるもの：\nレッスン、材料、エプロン、クレープ（お持ち帰り分あり）、ランチ、お飲み物、レシピ\nお持ち帰りようの箱と袋のみ各自ご持参下さい。（環境のことを考え、使い捨ての箱、袋の削減に努めています。）\n \n \nAbout Culinary Instructor Madame Simon\nSpoonful’s culinary Instructor Madame Eiko Simon lived in Paris for more than 10 years and mastered her skills at several culinary schools including Boulangerie (Baker shop in French). Armed with her very own home-made French cuisine recipes which was passed down by her mother-in-law\, she now stays in Singapore with her French husband and works as a culinary instructor cum event coordinator at Spoonful. Cooking certification: Ryo-ken (Tokyo 2014) Master Chef Techniques\, La Cuisine des Chefs (Paris 2013-4) French-bread making\, MAISON LANDEMAINE (Paris 2015) Ecole de Boulangerie EBP (Paris 2014)\n講師シモンの10年以上にわたるパリでの生活の実体験からパンの焼き方だけではなく、フランスの食文化のご紹介もクラス内でご紹介していきます。　一度で2度美味しい、シモン先生のクラス。　パンの詳細にわたる説明もしっかり学んで頂けます。\n \n\nTerms & Conditions \n-Copyright of photos and video shooting taken by Spoonful (Alchemist Pte Ltd) and its partners during the event will belong to Spoonful. Spoonful has the right to use the photos and video shooting for PR and marketing purpose. \n-The event organizer “Spoonful (Alchemist Pte Ltd)” is not responsible for any personal food allergy. Each attendee must take his/her own responsibility for any allergy. \n-Spoonful will notify 3 days prior the event day to all the attendees if the event has to be cancelled. \n-There will be no refund unless the event itself is cancelled. \n-Spoonful will send future events or promo info to attendees e-mail address after the event.
URL:https://spoonful.sg/event/weekend-galetto-crepe-class-madame-simons-kitchen/
LOCATION:Origins of Food\, One Farrer Hotel & Spa\, 1 FARRER PARK STATION ROAD SINGAPORE 217562 (FARRER PARK MRT EXIT C / NEXT TO TAXI STAND)\, Singapore\, 217562\, Singapore
CATEGORIES:Featured Spoonful Workshop Events,Spoonful Workshops
ATTACH;FMTTYPE=image/jpeg:https://spoonful.sg/wp-content/uploads/2017/02/Crepe-01_Rez.jpg
END:VEVENT
END:VCALENDAR