BEGIN:VCALENDAR
VERSION:2.0
PRODID:-//Spoonful - ECPv5.14.1//NONSGML v1.0//EN
CALSCALE:GREGORIAN
METHOD:PUBLISH
X-WR-CALNAME:Spoonful
X-ORIGINAL-URL:https://spoonful.sg
X-WR-CALDESC:Events for Spoonful
BEGIN:VTIMEZONE
TZID:Asia/Singapore
BEGIN:STANDARD
TZOFFSETFROM:+0800
TZOFFSETTO:+0800
TZNAME:+08
DTSTART:20170101T000000
END:STANDARD
END:VTIMEZONE
BEGIN:VEVENT
DTSTART;TZID=Asia/Singapore:20170329T103000
DTEND;TZID=Asia/Singapore:20170329T130000
DTSTAMP:20260426T051835
CREATED:20170210T163751Z
LAST-MODIFIED:20170210T163751Z
UID:1665-1490783400-1490792400@spoonful.sg
SUMMARY:Spring Season's Table Coordination Workshop
DESCRIPTION:Spring table coordination classes by culinary and life style coordinator Rina. This class will be conducted mainly in Japanese but for the English classes\, please inquiry us at table@alchemist.sg.
URL:https://spoonful.sg/event/spring-seasons-table-coordination-workshop/
LOCATION:Raffles Place MRT 近辺（予約したお客様のみに住所をお送りしております。）　\, Singapore
CATEGORIES:Featured Spoonful Workshop Events,Spoonful Workshops
ATTACH;FMTTYPE=image/jpeg:https://spoonful.sg/wp-content/uploads/2017/02/yozakura.jpg
END:VEVENT
END:VCALENDAR