BEGIN:VCALENDAR
VERSION:2.0
PRODID:-//Spoonful - ECPv5.14.1//NONSGML v1.0//EN
CALSCALE:GREGORIAN
METHOD:PUBLISH
X-WR-CALNAME:Spoonful
X-ORIGINAL-URL:https://spoonful.sg
X-WR-CALDESC:Events for Spoonful
BEGIN:VTIMEZONE
TZID:Asia/Singapore
BEGIN:STANDARD
TZOFFSETFROM:+0800
TZOFFSETTO:+0800
TZNAME:+08
DTSTART:20170101T000000
END:STANDARD
END:VTIMEZONE
BEGIN:VEVENT
DTSTART;TZID=Asia/Singapore:20170331T100000
DTEND;TZID=Asia/Singapore:20170331T130000
DTSTAMP:20260426T051640
CREATED:20170224T020225Z
LAST-MODIFIED:20170227T023940Z
UID:1837-1490954400-1490965200@spoonful.sg
SUMMARY:Hotel Tour & Afternoon Tea Work Shop at The Fullerton Bay Hotel
DESCRIPTION: \n\nFancy some down time accompanied with relaxing tea and a cozy ambience? Join us at our upcoming Hotel Tour & Afternoon Tea Work Shop at The Fullerton Bay Hotel to get some much needed R&R! Here\, you’ll get to enjoy a nice tour of the hotel\, followed by an Afternoon Tea Workshop and then a specially crafted Afternoon Tea Lunch! \nThis event is a collaboration with The Fullerton Bay Hotel and Tea Instructor cum Afternoon Tea Master\, Ms Lily Yuriko Kurahashi. \nPlease note that this program is currently only available in Japanese language. Do contact us directly at info@alchemist.sg should you be interested in an English class.
URL:https://spoonful.sg/event/%e6%97%a5%e6%9c%ac%e8%aa%9e-hotel-tour-afternoon-tea-work-shop-at-the-fullerton-bay-hotel/
CATEGORIES:Featured Spoonful Workshop Events,Spoonful Workshops
ATTACH;FMTTYPE=image/jpeg:https://spoonful.sg/wp-content/uploads/2017/02/The-Landing-Point-Afternoon-Tea.jpg
END:VEVENT
END:VCALENDAR