BEGIN:VCALENDAR
VERSION:2.0
PRODID:-//Spoonful - ECPv5.14.1//NONSGML v1.0//EN
CALSCALE:GREGORIAN
METHOD:PUBLISH
X-WR-CALNAME:Spoonful
X-ORIGINAL-URL:https://spoonful.sg
X-WR-CALDESC:Events for Spoonful
BEGIN:VTIMEZONE
TZID:Asia/Singapore
BEGIN:STANDARD
TZOFFSETFROM:+0800
TZOFFSETTO:+0800
TZNAME:+08
DTSTART:20170101T000000
END:STANDARD
END:VTIMEZONE
BEGIN:VEVENT
DTSTART;TZID=Asia/Singapore:20170419T103000
DTEND;TZID=Asia/Singapore:20170419T123000
DTSTAMP:20260426T051640
CREATED:20170328T062017Z
LAST-MODIFIED:20170329T022058Z
UID:2523-1492597800-1492605000@spoonful.sg
SUMMARY:Make you own tableware! -Porcelain Art Class- Morning Session
DESCRIPTION:Dress your tables to impress! Learn all about Tableware Porcelain Art classes by culinary and lifestyle coordinator\, Ms Rina Shinkawa! This class will be a hands-on class on designing porcelain arts for tableware. It is suitable for beginners who are interested in porcelain arts! \n\n\nThere are 2 available sessions per day– This is the morning class at 10:30-12:30.  \nThe class fee includes lesson fee and materials. \nOther Porcelain Arts class dates are also available:  \n\nThur 6 April 2017 Morning Session | Afternoon Session\nSat 8 April 2017  Morning Session | Afternoon Session\nWed 12 April 2017  Morning Session | Afternoon Session\nWed 19 April 2017  Afternoon Session\n\nポーセラーツレッスン \n好きな柄を選び、組み合わせ、世界に一つだけのオリジナルの食器作り体験しませんか？ \nハンドメイドの食器で、より楽しい食卓になります。赤ちゃん連れ、親子レッスンも可。(お問い合わせください。) \n2名様以上開催 \n材料費レッスン費全て込み70ドル \n日程2時間程 10:30-、13:30- (二部) \n4/6(木) 　午前　・ 午後 \n4/8（土）午前　・午後 \n4/12(水)　午前　・ 午後 \n4/19(水)　　午後 \n上記以外の日程ご希望の方はお問い合わせください。 table@alchemist.sg \nAbout The Instructor\nRina Shinkawa Profile\n \n \n \n \n \n \n \n \n \n \n \n \n \n \nSpoonful’s Culinary Instructor Rina Shinkawa specializes as a Food and Lifestyle Coordinator. Her expertise lies in organizing and teaching popular table coordination classes. She has been holding these advanced classes and worked as lecturers and assistants for popular TV network Nippon Television since her time in Tokyo. Rina acquired her qualifications and experience at Food Space Project Co.Ltd (食空間プロジェクト株)\, Marinaaze Interior CPS as a coordinator\, and FSPJ certified salon and has even been featured in several media! She now stays in Singapore and organizes table coordination classes for Spoonful members.\n\n\n \n \nTERMS & CONDITIONS\n1. GENERAL INFORMATION\nThis class is opened for attendees 18 years old and above only. Spoonful will send future class info or promotion info via e-mail to the attendees after the class.\n \n2. RISK ACKNOWLEDGEMENT\nYou agree to comply with and abide by Spoonful’s safety and health directions\, fire and safety regulations. The event organizer “Spoonful (Alchemist Pte Ltd)” is not responsible for any personal food allergy. Each attendee must take his/her own responsibility for any allergy. You will fully and truthfully disclose to Spoonful in writing any allergy\, medical condition\, pregnancy\, dietary requirements or other relevant health information pertaining to you at the time of your booking. Any food that you take away should be stored and consumed strictly in accordance with our instructions and guidelines\, and we do not accept any responsibility for any injury or illness resulting from any food taken away.\n \n3. CANCELLATION OF CLASS/EVENT:\nIn the unlikely event that a schedule class or event needs to be cancelled\, Spoonful will give notification 3 working days prior to the event day\, to all the attendees. There will be no refund unless the event itself is cancelled by Spoonful.\n \n4. FORCE MAJEURE:\nShould Spoonful be unable to provide for your class or function due Acts of God or any circumstances beyond the control of Spoonful\, we will not be responsible for any costs\, damages or expenses that you may suffer or incur.\n \n5. RIGHT TO REFUSE\nSpoonful holds the right to refuse an attendee\, or request to be removed from the premises\, if the instructor or any staff member feels that the attendee is intoxicated or may cause harm to themselves or anyone else attending the scheduled class or event.\n \n6. PHOTOGRAPHY & VIDEOGRAPHY: Spoonful (Alchemist Pte Ltd) and its partner may take photographic or video images of activities at events for our advertising\, publicity or sponsorship purposes. Copyright of photos and videos taken by Spoonful & our partners during the event will belong to us. Please inform us in writing prior to the event\, if you do not wish to be included. Failing which you irrevocably waive any and all rights which you may have now or in the future including but without limitation any of your rights under the Copyright Act as may be amended from time to time or any similar laws of any jurisdiction\, and acknowledge Spoonful and its partners’ right to use your name\, likeness and voice and any biographical details\, photographs and recordings of you in all media and formats throughout the universe including but not limited to Spoonful’s website and in advertising\, publicity\, or sponsorship.\n 
URL:https://spoonful.sg/event/make-you-own-tableware-porcelain-art-class-morning-session-4/
CATEGORIES:Featured Spoonful Workshop Events,Spoonful Workshops
ATTACH;FMTTYPE=image/jpeg:https://spoonful.sg/wp-content/uploads/2017/02/Porcearts_01.jpg
END:VEVENT
BEGIN:VEVENT
DTSTART;TZID=Asia/Singapore:20170419T133000
DTEND;TZID=Asia/Singapore:20170419T153000
DTSTAMP:20260426T051640
CREATED:20170328T062559Z
LAST-MODIFIED:20170329T021616Z
UID:2528-1492608600-1492615800@spoonful.sg
SUMMARY:Make you own tableware! -Porcelain Art Class- Afternoon Session
DESCRIPTION:Dress your tables to impress! Learn all about Tableware Porcelain Art classes by culinary and lifestyle coordinator\, Ms Rina Shinkawa! This class will be a hands-on class on designing porcelain arts for tableware. It is suitable for beginners who are interested in porcelain arts! \n\n\nThere are 2 available sessions per day – This is the afternoon class at 13:30-15:30.  \nThe class fee includes lesson fee and materials. \nOther Porcelain Arts class dates are also available:  \nThe class fee includes lesson fee and materials. \nOther Porcelain Arts class dates are also available:  \n\nThur 6 April 2017 Morning Session | Afternoon Session\nSat 8 April 2017\, Morning Session | Afternoon Session\nWed 12 April 2017 Morning Session | Afternoon Session\nWed 19 April 2017 Morning Session \n\n  \nポーセラーツレッスン \n好きな柄を選び、組み合わせ、世界に一つだけのオリジナルの食器作り体験しませんか？ \nハンドメイドの食器で、より楽しい食卓になります。赤ちゃん連れ、親子レッスンも可。(お問い合わせください。) \n2名様以上開催 \n材料費レッスン費全て込み70ドル \n  \n日程2時間程 10:30-、13:30- (二部) \n4/6(木) 　午前　・　午後 \n4/8（土）午前　・　午後 \n4/12(水)　午前　・　午後 \n4/19(水)　午前　 \n  \n上記以外の日程ご希望の方はお問い合わせください。 table@alchemist.sg \n \nAbout The Instructor\n \nRina Shinkawa Profile\n \n \n \n \n \n \n \n \n \n \n \n \n \n \nSpoonful’s Culinary Instructor Rina Shinkawa specializes as a Food and Lifestyle Coordinator. Her expertise lies in organizing and teaching popular table coordination classes. She has been holding these advanced classes and worked as lecturers and assistants for popular TV network Nippon Television since her time in Tokyo. Rina acquired her qualifications and experience at Food Space Project Co.Ltd (食空間プロジェクト株)\, Marinaaze Interior CPS as a coordinator\, and FSPJ certified salon and has even been featured in several media! She now stays in Singapore and organizes table coordination classes for Spoonful members.\n\n\n  \n  \nTERMS & CONDITIONS\n1. GENERAL INFORMATION\nThis class is opened for attendees 18 years old and above only. Spoonful will send future class info or promotion info via e-mail to the attendees after the class.\n \n2. RISK ACKNOWLEDGEMENT\nYou agree to comply with and abide by Spoonful’s safety and health directions\, fire and safety regulations. The event organizer “Spoonful (Alchemist Pte Ltd)” is not responsible for any personal food allergy. Each attendee must take his/her own responsibility for any allergy. You will fully and truthfully disclose to Spoonful in writing any allergy\, medical condition\, pregnancy\, dietary requirements or other relevant health information pertaining to you at the time of your booking. Any food that you take away should be stored and consumed strictly in accordance with our instructions and guidelines\, and we do not accept any responsibility for any injury or illness resulting from any food taken away.\n \n3. CANCELLATION OF CLASS/EVENT:\nIn the unlikely event that a schedule class or event needs to be cancelled\, Spoonful will give notification 3 working days prior to the event day\, to all the attendees. There will be no refund unless the event itself is cancelled by Spoonful.\n \n4. FORCE MAJEURE:\nShould Spoonful be unable to provide for your class or function due Acts of God or any circumstances beyond the control of Spoonful\, we will not be responsible for any costs\, damages or expenses that you may suffer or incur.\n \n5. RIGHT TO REFUSE\nSpoonful holds the right to refuse an attendee\, or request to be removed from the premises\, if the instructor or any staff member feels that the attendee is intoxicated or may cause harm to themselves or anyone else attending the scheduled class or event.\n \n6. PHOTOGRAPHY & VIDEOGRAPHY: Spoonful (Alchemist Pte Ltd) and its partner may take photographic or video images of activities at events for our advertising\, publicity or sponsorship purposes. Copyright of photos and videos taken by Spoonful & our partners during the event will belong to us. Please inform us in writing prior to the event\, if you do not wish to be included. Failing which you irrevocably waive any and all rights which you may have now or in the future including but without limitation any of your rights under the Copyright Act as may be amended from time to time or any similar laws of any jurisdiction\, and acknowledge Spoonful and its partners’ right to use your name\, likeness and voice and any biographical details\, photographs and recordings of you in all media and formats throughout the universe including but not limited to Spoonful’s website and in advertising\, publicity\, or sponsorship.\n 
URL:https://spoonful.sg/event/make-you-own-tableware-porcelain-art-class-afternoon-session-4/
LOCATION:Near Raffles Place MRT\, Actual Venue address will be sent to attendees after registration 
CATEGORIES:Featured Spoonful Workshop Events,Spoonful Workshops
ATTACH;FMTTYPE=image/jpeg:https://spoonful.sg/wp-content/uploads/2017/03/Porcearts_03.jpg
END:VEVENT
END:VCALENDAR