BEGIN:VCALENDAR
VERSION:2.0
PRODID:-//Spoonful - ECPv5.14.1//NONSGML v1.0//EN
CALSCALE:GREGORIAN
METHOD:PUBLISH
X-WR-CALNAME:Spoonful
X-ORIGINAL-URL:https://spoonful.sg
X-WR-CALDESC:Events for Spoonful
BEGIN:VTIMEZONE
TZID:Asia/Singapore
BEGIN:STANDARD
TZOFFSETFROM:+0800
TZOFFSETTO:+0800
TZNAME:+08
DTSTART:20170101T000000
END:STANDARD
END:VTIMEZONE
BEGIN:VEVENT
DTSTART;TZID=Asia/Singapore:20170526T103000
DTEND;TZID=Asia/Singapore:20170526T130000
DTSTAMP:20260426T034406
CREATED:20170427T103034Z
LAST-MODIFIED:20170427T121618Z
UID:2929-1495794600-1495803600@spoonful.sg
SUMMARY:Tea & Table Coordination Workshop
DESCRIPTION:Spring table coordination classes by culinary and life style coordinator Rina. This class will be conducted mainly in Japanese but for the English classes\, please inquiry us at table@alchemist.sg.
URL:https://spoonful.sg/event/spring-seasons-table-coordination-workshop-2/
LOCATION:Raffles Place MRT 近辺（予約したお客様のみに住所をお送りしております。）　\, Singapore
CATEGORIES:Featured Spoonful Workshop Events,Spoonful Workshops
ATTACH;FMTTYPE=image/jpeg:https://spoonful.sg/wp-content/uploads/2017/04/IMG_0800-1-1.jpg
END:VEVENT
BEGIN:VEVENT
DTSTART;TZID=Asia/Singapore:20170526T110000
DTEND;TZID=Asia/Singapore:20170526T130000
DTSTAMP:20260426T034406
CREATED:20170505T145740Z
LAST-MODIFIED:20170518T031524Z
UID:2995-1495796400-1495803600@spoonful.sg
SUMMARY:French Organic Wine Class
DESCRIPTION:Welcoming Guillaume Pace from Eiffel Markets\, we’ll conduct the “Organic Wine Class”.This class will be conducted in French and Japanese. We are mid planning to conduct English Class. (For the inquiry: info@alchemist.sg)
URL:https://spoonful.sg/event/french-organic-wine-class/
LOCATION:Extra Sace Asia\, 301 Boon Keng Road \, Singapore\, 339779\, Singapore
CATEGORIES:Featured Spoonful Workshop Events,Spoonful Workshops
ATTACH;FMTTYPE=image/jpeg:https://spoonful.sg/wp-content/uploads/2017/05/6b81dcea89ae2d5b3dcc3a9cc75a0d2b_s.jpg
END:VEVENT
END:VCALENDAR