BEGIN:VCALENDAR
VERSION:2.0
PRODID:-//Spoonful - ECPv5.14.1//NONSGML v1.0//EN
CALSCALE:GREGORIAN
METHOD:PUBLISH
X-WR-CALNAME:Spoonful
X-ORIGINAL-URL:https://spoonful.sg
X-WR-CALDESC:Events for Spoonful
BEGIN:VTIMEZONE
TZID:Asia/Singapore
BEGIN:STANDARD
TZOFFSETFROM:+0800
TZOFFSETTO:+0800
TZNAME:+08
DTSTART:20170101T000000
END:STANDARD
END:VTIMEZONE
BEGIN:VEVENT
DTSTART;TZID=Asia/Singapore:20170612T103000
DTEND;TZID=Asia/Singapore:20170612T130000
DTSTAMP:20260426T021032
CREATED:20170427T121317Z
LAST-MODIFIED:20170427T121317Z
UID:2945-1497263400-1497272400@spoonful.sg
SUMMARY:Tea & Table Coordination Workshop
DESCRIPTION:Spring table coordination classes by culinary and life style coordinator Rina. This class will be conducted mainly in Japanese but for the English classes\, please inquiry us at table@alchemist.sg.
URL:https://spoonful.sg/event/tea-table-coordination-workshop/
LOCATION:Raffles Place MRT 近辺（予約したお客様のみに住所をお送りしております。）　\, Singapore
CATEGORIES:Featured Spoonful Workshop Events,Spoonful Workshops
ATTACH;FMTTYPE=image/jpeg:https://spoonful.sg/wp-content/uploads/2017/04/IMG_0800-1-1.jpg
END:VEVENT
END:VCALENDAR