BEGIN:VCALENDAR
VERSION:2.0
PRODID:-//Spoonful - ECPv5.14.1//NONSGML v1.0//EN
CALSCALE:GREGORIAN
METHOD:PUBLISH
X-WR-CALNAME:Spoonful
X-ORIGINAL-URL:https://spoonful.sg
X-WR-CALDESC:Events for Spoonful
BEGIN:VTIMEZONE
TZID:Asia/Singapore
BEGIN:STANDARD
TZOFFSETFROM:+0800
TZOFFSETTO:+0800
TZNAME:+08
DTSTART:20170101T000000
END:STANDARD
END:VTIMEZONE
BEGIN:VEVENT
DTSTART;TZID=Asia/Singapore:20170716T100000
DTEND;TZID=Asia/Singapore:20170716T111500
DTSTAMP:20260426T004733
CREATED:20170630T120801Z
LAST-MODIFIED:20170712T013821Z
UID:3421-1500199200-1500203700@spoonful.sg
SUMMARY:Tiong Bahru Market Visit
DESCRIPTION:About The Visit \nCome join us on a fuss-free visit to the newly renovated Tiong Bahru Market! \nDuring the visit\, learn about the history of the Tiong Bahru market and delight your senses as you walk through the dozens of stalls!  \nTaste and smell the variety of local spices\, find out the fisherman’s catch of the day\, and enjoy the visual bounty of native fruits and vegetables! \nMeeting Point: At the Central gate of Tiong Bahru Market. \n  \nComplimentary \nSpoonful has created a special recipe just for this visit! During the Tiong Bahru Market visit\, we will make stops to visit stalls selling the ingredients that the recipe requires so that you can make it at home!  \n  \nRemarks \nPlease wear comfortable shoes.  \n  \nTerms & Conditions \n-Copyright of photos and video shooting taken by Spoonful (Alchemist Pte Ltd) and its partners during the event will belong to Spoonful. Spoonful has the right to use the photos and video shooting for PR and marketing purpose. \n-The event organizer “Spoonful (Alchemist Pte Ltd)” is not responsible for any personal food allergy. Each attendee must take his/her own responsibility for any allergy. \n-Spoonful will notify 3 days prior the event day to all the attendees if the event has to be cancelled. \n-There will be no refund unless the event itself is cancelled. \n-Spoonful will send future events or promo info to attendees e-mail address after the event. \n-Kids seats are applicable from 5 years old to 15 years old. (Free for 4 years old and less than 4 years old)
URL:https://spoonful.sg/event/tiong-bahru-market-visit/
LOCATION:Tiong Bahru Market\, 30 Seng Poh Rd\, Singapore 168898\, Singapore\, Singapore
CATEGORIES:Featured Spoonful Workshop Events,Spoonful Workshops
ATTACH;FMTTYPE=image/jpeg:https://spoonful.sg/wp-content/uploads/2017/06/IMG_7119.jpg
END:VEVENT
END:VCALENDAR