BEGIN:VCALENDAR
VERSION:2.0
PRODID:-//Spoonful - ECPv5.14.1//NONSGML v1.0//EN
CALSCALE:GREGORIAN
METHOD:PUBLISH
X-WR-CALNAME:Spoonful
X-ORIGINAL-URL:https://spoonful.sg
X-WR-CALDESC:Events for Spoonful
BEGIN:VTIMEZONE
TZID:Asia/Singapore
BEGIN:STANDARD
TZOFFSETFROM:+0800
TZOFFSETTO:+0800
TZNAME:+08
DTSTART:20170101T000000
END:STANDARD
END:VTIMEZONE
BEGIN:VEVENT
DTSTART;TZID=Asia/Singapore:20170819T103000
DTEND;TZID=Asia/Singapore:20170819T123000
DTSTAMP:20260425T230909
CREATED:20170722T203113Z
LAST-MODIFIED:20170722T234351Z
UID:3630-1503138600-1503145800@spoonful.sg
SUMMARY:Design your own tableware! -Porcelain art class-
DESCRIPTION:Tableware Porcelain Art classes by culinary and life style coordinator Rina Shinkawa. This class will be a hands-on class on designing porcelain arts. It is suitable for beginners who are interested in porcelain arts! \nThe class fee includes lesson fee and materials too. \nFor the inquiries of the private class\, parties and collaboration with school and cooperate\, please contact at info@alchemist.sg \nAbout Spoonful Instructor \nRina Shinkawa\nRina Shinkawa\n  \n  \n  \n  \n  \n  \n  \n  \n  \n  \nSpoonful’s Culinary Instructor Rina Shinkawa specializes as a Food and Lifestyle Coordinator. Her expertise lies in organizing and teaching popular table coordination classes. She has been holding these advanced classes and worked as lecturers and assistants for popular TV network Nippon Television since her time in Tokyo. Rina acquired her qualifications and experience at Food Space Project Co.Ltd (食空間プロジェクト株)\, Marinaaze Interior CPS as a coordinator\, and FSPJ certified salon and has even been featured in several media! She now stays in Singapore and organizes table coordination classes for Spoonful members. \n  \n\n\nTerms & Conditions/諸条件\n\n\n-Copyright of photos and video shooting taken by Spoonful (Alchemist Pte Ltd) and its partners during the event will belong to Spoonful. Spoonful has the right to use the photos and video shooting for PR and marketing purpose.\n\n\n-The event organizer “Spoonful (Alchemist Pte Ltd)” is not responsible for any personal food allergy. Each attendee must take his/her own responsibility for any allergy.\n\n\n-Spoonful will notify 3 days prior the event day to all the attendees if the event has to be cancelled.\n\n\n-There will be no refund unless the event itself is cancelled.\n\n\n-This event is opened only for women.\n\n\n-Spoonful will send future events or promo info to attendees e-mail address after the event.\n\n\n-To accompany kids there will be another T&C\, please contact us.\n\n\nInduiry(連絡先)：table@alchemist.sg
URL:https://spoonful.sg/event/design-your-own-tableware-porcelain-art-class-3/
LOCATION:Near Raffles Place MRT\, Actual Venue address will be sent to attendees after registration 
CATEGORIES:Featured Spoonful Workshop Events,Spoonful Workshops
ATTACH;FMTTYPE=image/jpeg:https://spoonful.sg/wp-content/uploads/2017/06/Porcearts_05.jpg
END:VEVENT
END:VCALENDAR