BEGIN:VCALENDAR
VERSION:2.0
PRODID:-//Spoonful - ECPv5.14.1//NONSGML v1.0//EN
CALSCALE:GREGORIAN
METHOD:PUBLISH
X-WR-CALNAME:Spoonful
X-ORIGINAL-URL:https://spoonful.sg
X-WR-CALDESC:Events for Spoonful
BEGIN:VTIMEZONE
TZID:Asia/Singapore
BEGIN:STANDARD
TZOFFSETFROM:+0800
TZOFFSETTO:+0800
TZNAME:+08
DTSTART:20170101T000000
END:STANDARD
END:VTIMEZONE
BEGIN:VEVENT
DTSTART;TZID=Asia/Singapore:20171114T100000
DTEND;TZID=Asia/Singapore:20171114T130000
DTSTAMP:20260425T182327
CREATED:20171024T035116Z
LAST-MODIFIED:20171108T015322Z
UID:4279-1510653600-1510664400@spoonful.sg
SUMMARY:(日本語) Organic Food Knowledge Work Shop by IOTA・【1day入門】オーガニックフードセラピスト資格
DESCRIPTION:  This class content is available in Japanese Language only. 
URL:https://spoonful.sg/event/organic-food-knowledge-work-shop-by-iota-%e3%83%bb%e3%80%901day%e5%85%a5%e9%96%80%e3%80%91%e3%82%aa%e3%83%bc%e3%82%ac%e3%83%8b%e3%83%83%e3%82%af%e3%83%95%e3%83%bc%e3%83%89%e3%82%bb%e3%83%a9%e3%83%9414/
LOCATION:昼間の部：MRT RED　HILL駅近辺の会場を予定。　夜の部：CBDエリアの会場を予定。
CATEGORIES:Featured Spoonful Workshop Events,Spoonful Workshops
ATTACH;FMTTYPE=image/jpeg:https://spoonful.sg/wp-content/uploads/2017/10/header.jpg2_.jpg
END:VEVENT
END:VCALENDAR