BEGIN:VCALENDAR
VERSION:2.0
PRODID:-//Spoonful - ECPv5.14.1//NONSGML v1.0//EN
CALSCALE:GREGORIAN
METHOD:PUBLISH
X-WR-CALNAME:Spoonful
X-ORIGINAL-URL:https://spoonful.sg
X-WR-CALDESC:Events for Spoonful
BEGIN:VTIMEZONE
TZID:Asia/Singapore
BEGIN:STANDARD
TZOFFSETFROM:+0800
TZOFFSETTO:+0800
TZNAME:+08
DTSTART:20180101T000000
END:STANDARD
END:VTIMEZONE
BEGIN:VEVENT
DTSTART;TZID=Asia/Singapore:20180306T100000
DTEND;TZID=Asia/Singapore:20180306T110000
DTSTAMP:20260425T115840
CREATED:20180227T000810Z
LAST-MODIFIED:20180517T095142Z
UID:5046-1520330400-1520334000@spoonful.sg
SUMMARY:How to shop at market?
DESCRIPTION:This event will be conducted only in Japanese.  \nPlease check our Japanese page for more details. \n 
URL:https://spoonful.sg/event/tiong-bahru-market-visit-20180525/
LOCATION:Tiong Bahru Market\, 30 Seng Poh Rd\, Singapore 168898\, Singapore\, Singapore
CATEGORIES:Featured Spoonful Workshop Events,Spoonful Workshops
ATTACH;FMTTYPE=image/jpeg:https://spoonful.sg/wp-content/uploads/2017/06/IMG_7119.jpg
END:VEVENT
BEGIN:VEVENT
DTSTART;TZID=Asia/Singapore:20180306T100000
DTEND;TZID=Asia/Singapore:20180306T110000
DTSTAMP:20260425T115840
CREATED:20180517T094716Z
LAST-MODIFIED:20180517T095014Z
UID:5619-1520330400-1520334000@spoonful.sg
SUMMARY:How to shop at market?
DESCRIPTION:This event will be conducted only in Japanese.  \nPlease check our Japanese page for more details. \n 
URL:https://spoonful.sg/event/tiong-bahru-market-visit-20180525-3/
LOCATION:Tiong Bahru Market\, 30 Seng Poh Rd\, Singapore 168898\, Singapore\, Singapore
CATEGORIES:Featured Spoonful Workshop Events,Spoonful Workshops
ATTACH;FMTTYPE=image/jpeg:https://spoonful.sg/wp-content/uploads/2017/06/IMG_7119.jpg
END:VEVENT
END:VCALENDAR