BEGIN:VCALENDAR
VERSION:2.0
PRODID:-//Spoonful - ECPv5.14.1//NONSGML v1.0//EN
CALSCALE:GREGORIAN
METHOD:PUBLISH
X-WR-CALNAME:Spoonful
X-ORIGINAL-URL:https://spoonful.sg
X-WR-CALDESC:Events for Spoonful
BEGIN:VTIMEZONE
TZID:Asia/Singapore
BEGIN:STANDARD
TZOFFSETFROM:+0800
TZOFFSETTO:+0800
TZNAME:+08
DTSTART:20180101T000000
END:STANDARD
END:VTIMEZONE
BEGIN:VEVENT
DTSTART;TZID=Asia/Singapore:20180307T103000
DTEND;TZID=Asia/Singapore:20180307T123000
DTSTAMP:20260425T115804
CREATED:20180226T234800Z
LAST-MODIFIED:20180226T234839Z
UID:5039-1520418600-1520425800@spoonful.sg
SUMMARY:Volunteer Try Out  at The Food Bank Singapore
DESCRIPTION:Thinking more about food waste\, what can we do….? \nWhy not try out the volunteer work at The Food Bank Singapore with us! \nhttps://spoonful.sg/wp-content/uploads/2016/12/FoodbankSg_logo-e1512443465786.jpg \nSchedule \n– 10:30 Meet directly at The Food Bank Singapore Office at Tanjong Pagar District Park. \n– Quick briefing by the representatives of the Food Bank Singapore. Attendees* are welcomed to work as volunteer at the The Food Bank Singapore Warehouse\, some volunteers may be asked to help move bulky and heavy items. Please inform the staff  before hand if you have any back pain or injuries and are not able help move heavy items.  \n-12:00 Talk about food wastage and the word done by Food Bank Singapore  \n \n  \nRemarks \nAll volunteers are to be in covered shoes and comfortable wear. \nDo bring along bottled water\, face towel or a change of clothes if required. \n  \n  \n  \nAbout Food Waste \nAccording to the NEA(National Environment Agency)\, Singapore wasted approximately 790\,000 tonnes of food in 2014….(Quoted from Channel New Asia\, please click their link to know more about the story.) \n  \nAbout The Food Bank Singapore \n \nProbably the first question on your mind right now is “What is a food bank?” \n  \nTo make it really simple\, a food bank is a place where companies or people can come to deposit or donate their unused or unwanted food which will then be collected and allocated to the needy through a network of member beneficiaries such as family service centres\, various types of homes\, soup kitchens\, and other VWOs. \nAs the price of food continues to rise\, many middle to low income families have problems putting food on the table as salaries are not increasing as quickly. Moreover\, based on our observation\, we do know that there are pockets of unused food within the food industry that can most certainly be put to better use. \nTherefore\, based on our sincere passion for food\, The Food Bank Singapore was set out by Nichol & Nicholas Ng. To find out more about The Food Bank Singapore\, simply navigate www.foodbank.sg . \n  \n  \n  \nAbout Spoonful’s Philosophy \nSpoonful’s philosophy is “Food For Thought With a Smile “. Through Food & Cooking events\, we want the society to pay attention to increase how precious food is and the origins of food. Leveraging on our F&B activities\, we would like to increase awareness of people and communities in other part of the world where food is luxury. Let’s change the world from your plate\, kitchen and cooking\, with us. We would like your culinary journey to start with the planting of seeds until the food is served on your plate. “Creating awareness one spoonful at a time”. \nSpoonful is one of the supporters of “The Food Bank Singapore” \n  \nTerms & Conditions \n-Copyright of photos and video shooting taken by Spoonful (Alchemist Pte Ltd) and its partners during the event will belong to Spoonful. Spoonful has the right to use the photos and video shooting for PR and marketing purpose. \n-“Spoonful (Alchemist Pte Ltd)” is not responsible for any accidents and illness caused during the volunteer work. Each attendee must take his/her own responsibility during the volunteer work. \n-Spoonful will notify 3 days prior the event day to all the attendees if the volunteer work has to be cancelled. \n-This volunteer work is opened only for 5 years old and above. \n-Spoonful will include all attendees in our mailing list after the event.
URL:https://spoonful.sg/event/volunteer-try-out-at-the-food-bank-singapore-2-2-2/
LOCATION:Food Bank Singapore\, 39 Keppel Road #0３-02/04\, Tanjong Pagar Distripark\, Singapore\, Singapore\, 089065\, Singapore
CATEGORIES:Featured Spoonful Workshop Events,Spoonful Workshops
ATTACH;FMTTYPE=image/jpeg:https://spoonful.sg/wp-content/uploads/2017/05/IMG_2203-2-e1494122018646.jpg
END:VEVENT
END:VCALENDAR