BEGIN:VCALENDAR
VERSION:2.0
PRODID:-//Spoonful - ECPv5.14.1//NONSGML v1.0//EN
CALSCALE:GREGORIAN
METHOD:PUBLISH
X-WR-CALNAME:Spoonful
X-ORIGINAL-URL:https://spoonful.sg
X-WR-CALDESC:Events for Spoonful
BEGIN:VTIMEZONE
TZID:Asia/Singapore
BEGIN:STANDARD
TZOFFSETFROM:+0800
TZOFFSETTO:+0800
TZNAME:+08
DTSTART:20180101T000000
END:STANDARD
END:VTIMEZONE
BEGIN:VEVENT
DTSTART;TZID=Asia/Singapore:20180525T100000
DTEND;TZID=Asia/Singapore:20180525T111500
DTSTAMP:20260425T085806
CREATED:20180517T093241Z
LAST-MODIFIED:20180524T005028Z
UID:5620-1527242400-1527246900@spoonful.sg
SUMMARY:How to shop at market?
DESCRIPTION:This event will be conducted only in Japanese.  \nPlease check our Japanese page for more details. \n 
URL:https://spoonful.sg/event/tiong-bahru-market-visit-20180525-2/
LOCATION:Tiong Bahru Market\, 30 Seng Poh Rd\, Singapore 168898\, Singapore\, Singapore
CATEGORIES:Featured Spoonful Workshop Events,Spoonful Workshops
ATTACH;FMTTYPE=image/jpeg:https://spoonful.sg/wp-content/uploads/2017/06/IMG_7119.jpg
END:VEVENT
END:VCALENDAR