BEGIN:VCALENDAR
VERSION:2.0
PRODID:-//Spoonful - ECPv5.14.1//NONSGML v1.0//EN
CALSCALE:GREGORIAN
METHOD:PUBLISH
X-WR-CALNAME:Spoonful
X-ORIGINAL-URL:https://spoonful.sg
X-WR-CALDESC:Events for Spoonful
BEGIN:VTIMEZONE
TZID:Asia/Singapore
BEGIN:STANDARD
TZOFFSETFROM:+0800
TZOFFSETTO:+0800
TZNAME:+08
DTSTART:20180101T000000
END:STANDARD
END:VTIMEZONE
BEGIN:VEVENT
DTSTART;TZID=Asia/Singapore:20181031T103000
DTEND;TZID=Asia/Singapore:20181031T133000
DTSTAMP:20260424T230703
CREATED:20180925T050332Z
LAST-MODIFIED:20180925T050332Z
UID:6743-1540981800-1540992600@spoonful.sg
SUMMARY:【Sold Out】Souffle and Quiche class
DESCRIPTION:Would you like to make french style Souffle and Quiche? \nYou can make Cheese souffle and also Quiche. \nOur Quiche is pastry crust filled with hum and cheese. \nSo you can enjoy right and smooth taste quiche. \nQuiche can be served hot or cold. \n  \nAnd also you can make pumpkin\, sweet potato and blue cheese souffle. \nWe will make a baked souffle with cocotte of 8 cm in diameter \nand also quiche Lorraine with a diameter of 16 cm. \n  \nThis is Japanese class. \nIf you want to English class or private class\, please send message to \ninfo@alchemist.sg \n  \n \n \nAbout Culinary Instructor Madame Simon \nMdme Eiko Simon\n  \n  \n  \n  \n  \n  \n  \n  \n  \n  \nSpoonful’s culinary Instructor Madame Eiko Simon lived in Paris for more than 10 years and mastered her skills at several culinary schools including Boulangerie (Baker shop in French). Armed with her very own home-made French cuisine recipes which was passed down by her mother-in-law\, she now stays in Singapore with her French husband and works as a culinary instructor cum event coordinator at Spoonful. Cooking certification: Ryo-ken (Tokyo 2014) Master Chef Techniques\, La Cuisine des Chefs (Paris 2013-4) French-bread making\, MAISON LANDEMAINE (Paris 2015) Ecole de Boulangerie EBP (Paris 2014) \n  \nTERMS & CONDITIONS APPLY \n  \n  \n 
URL:https://spoonful.sg/event/quiche-class-oct-31/
LOCATION:Origins of Food\, One Farrer Hotel & Spa\, 1 FARRER PARK STATION ROAD SINGAPORE 217562 (FARRER PARK MRT EXIT C / NEXT TO TAXI STAND)\, Singapore\, 217562\, Singapore
CATEGORIES:Featured Spoonful Workshop Events,Spoonful Workshops
ATTACH;FMTTYPE=image/jpeg:https://spoonful.sg/wp-content/uploads/2018/09/54FA174B-4641-4C6A-8554-0E5A6DD7E50D.jpeg
END:VEVENT
END:VCALENDAR