BEGIN:VCALENDAR
VERSION:2.0
PRODID:-//Spoonful - ECPv5.14.1//NONSGML v1.0//EN
CALSCALE:GREGORIAN
METHOD:PUBLISH
X-WR-CALNAME:Spoonful
X-ORIGINAL-URL:https://spoonful.sg
X-WR-CALDESC:Events for Spoonful
BEGIN:VTIMEZONE
TZID:Asia/Singapore
BEGIN:STANDARD
TZOFFSETFROM:+0800
TZOFFSETTO:+0800
TZNAME:+08
DTSTART:20180101T000000
END:STANDARD
END:VTIMEZONE
BEGIN:VEVENT
DTSTART;TZID=Asia/Singapore:20181124T103000
DTEND;TZID=Asia/Singapore:20181124T123000
DTSTAMP:20260424T224841
CREATED:20181031T030013Z
LAST-MODIFIED:20181113T141706Z
UID:7209-1543055400-1543062600@spoonful.sg
SUMMARY:Christmas Pikachu Bento Workshop
DESCRIPTION:One-Day Exclusive Event! \nWhat’s more fun than spending a lovely morning with your little kids (or even friends!) through learning about ingredients and putting together your very own Christmas Pikachu Bento! Even better when you get to taste it thereafter. Proudly presented by OUE Social Kitchen and Spoonful\, join us on 24 NOV and let the experts from Japan bring you into the world of bento making. Also\, for the 1st 5 pairs who sign up\, you will get to try on the authentic YUKATA for photo-taking! \nIngredients\, Recipes\, and guidance are provided for. \nSo\, what are you waiting for?! \nRecipe\, ingredients\, bento box & guidance all provided for \n \n  \n*Images are for reference only \n* Recommended child’s age: 4 – 12 years old \nTERMS & CONDITIONS APPLY
URL:https://spoonful.sg/event/christmas-pikachu-bento-workshop/
LOCATION:OUE Social Kitchen\, 6a Shenton Way #03-02/03\, 068809\, Singapore
CATEGORIES:Featured Spoonful Workshop Events,Spoonful Workshops
ATTACH;FMTTYPE=image/jpeg:https://spoonful.sg/wp-content/uploads/2018/10/PIKACHU-BENTO-HEADER.jpg
END:VEVENT
END:VCALENDAR