BEGIN:VCALENDAR
VERSION:2.0
PRODID:-//Spoonful - ECPv5.14.1//NONSGML v1.0//EN
CALSCALE:GREGORIAN
METHOD:PUBLISH
X-WR-CALNAME:Spoonful
X-ORIGINAL-URL:https://spoonful.sg
X-WR-CALDESC:Events for Spoonful
BEGIN:VTIMEZONE
TZID:Asia/Singapore
BEGIN:STANDARD
TZOFFSETFROM:+0800
TZOFFSETTO:+0800
TZNAME:+08
DTSTART:20180101T000000
END:STANDARD
END:VTIMEZONE
BEGIN:VEVENT
DTSTART;TZID=Asia/Singapore:20181206T150000
DTEND;TZID=Asia/Singapore:20181206T170000
DTSTAMP:20260424T212058
CREATED:20181120T092720Z
LAST-MODIFIED:20181205T214552Z
UID:7453-1544108400-1544115600@spoonful.sg
SUMMARY:Market Survey on Japanese Confectionery
DESCRIPTION:If you’re Singaporean or PR\, female and aged between 30-60 years old\, we want you! \n( Please note: Each applicant is only allowed to book 1 seat for herself only. ) \nSpoonful is looking for participants to join and provide feedback for a market survey session about Japanese Confectionery. All you need to do is sample about 16* variety of Japanese Confectionery\, answer a simple questionnaire & join in a close-knitted focus group session. Each  participant will receive S$20 and a takeaway chocolate gift as a token of appreciation. \n  \nPlease register your interest below. However\, do note that this registration through the website may not be final. Spoonful & the organiser will be selecting the applicants based on eligibility. Successful applicants will be notified by a representative from Spoonful to confirm their registration prior to the event. \nPlease read the T&Cs carefully. Applicants who do not meet & criteria will not be allowed to join the session. \nConfectionery made with Persimmon\nConfectionery made with Chestnut\n  \n  \n  \n  \n  \n  \n  \n  \n  \n  \nEvent Details: \nDate: 6 Dec 2018 (Thurs) \nTime: 3pm – 5pm. (Registration starts from 2.30 pm) \nVenue: SABAR Singapore at Japan Food Town\n 4F Wisma Atria \, 435 Orchard Road\, #04-50\, 238877\nhttps://www.japanfoodtown.sg/stores/sabar/ \nTakeaway Gift – Hiroshima Chocolate\nTakeaway Gift – Hiroshima Chocolate\n  \n  \n  \n  \n  \n  \n  \n  \n  \n  \nTerms & Conditions: \n\nThis survey is open to Females aged 30-60 years old and has a monthly household income of $9K and above only.\nEach applicant is only allowed to book 1 seat for herself only. Strictly no booking on behalf of family or friends. Should there be an interest to book for others\, please get the party to sign up & make the booking herself. We thank you for your cooperation.\nSpoonful & the organiser will select the final applicants based on eligibility. Successful applicants will be notified by Spoonful’s staff to confirm their registration prior to the event. Only successful applicants should turn up for the event.\nTickets are strictly non-transferable.\nSampling food may contain nuts or other food allergens.\n*Number of sampling dishes may subject to change.\n“Spoonful (Alchemist Pte Ltd)” and or its Partner is not responsible for any personal food allergy. Each attendee must take his/her own responsibility for any allergy. You will fully and truthfully disclose to Spoonful in writing any allergy\, medical condition\, pregnancy\, dietary requirements or other relevant health information pertaining to you at the time of your booking.\nImages are for reference only.\nAs this is a pre-planned event involving food\, we appreciate if you can commit your schedule to the date & time after booking of the event\, to reduce food wastage.\nThe survey session will start on time. Latecomers will need to wait until there is an appropriate interval to join the session. Any missed sample dish will not be offered again to latecomers.\nPlease bring along your NRIC or Identification Card for verification purposes.\n\nTERMS & CONDITIONS APPLY \n  \n 
URL:https://spoonful.sg/event/market-survey-on-japanese-confectionery/
LOCATION:Sabar Singapore\,  4F Wisma Atria \, 435 Orchard Road\, #04-50\, Singapore\, 238877\, Singapore
CATEGORIES:Featured Spoonful Workshop Events,Spoonful Workshops
ATTACH;FMTTYPE=image/jpeg:https://spoonful.sg/wp-content/uploads/2018/11/Spoonful-Market-Research-Jap-confectionery.jpg
END:VEVENT
END:VCALENDAR