BEGIN:VCALENDAR
VERSION:2.0
PRODID:-//Spoonful - ECPv5.14.1//NONSGML v1.0//EN
CALSCALE:GREGORIAN
METHOD:PUBLISH
X-WR-CALNAME:Spoonful
X-ORIGINAL-URL:https://spoonful.sg
X-WR-CALDESC:Events for Spoonful
BEGIN:VTIMEZONE
TZID:Asia/Singapore
BEGIN:STANDARD
TZOFFSETFROM:+0800
TZOFFSETTO:+0800
TZNAME:+08
DTSTART:20180101T000000
END:STANDARD
END:VTIMEZONE
BEGIN:VEVENT
DTSTART;TZID=Asia/Singapore:20181213T103000
DTEND;TZID=Asia/Singapore:20181213T133000
DTSTAMP:20260424T212056
CREATED:20181115T044201Z
LAST-MODIFIED:20181126T235752Z
UID:7343-1544697000-1544707800@spoonful.sg
SUMMARY:Classic Christmas Log Cake
DESCRIPTION:This year why not celebrate Christmas with a handmade authentic French-style Christmas Log cake?\nIn French\, the Christmas Log Cake is called Bûche de Noël\, where Bûche means firewood and Noël refers to Christmas. \nEvery year starting from the beginning of December till Christmas\, almost every patisserie in France will be selling their original Buche de Noël and customers will be lining up from store to street! Several flavours are available but Chocolate always ranks top among these patisseries. \nIn this class\, you can learn how to make this classic cake before Christmas. We have fine-tuned the recipe to make it simple enough for home bakers but still be able to achieve the luxurious look of French patisseries with finesse and Christmas cake decorations. \n[Note: This class is currently taught in the Japanese language. For English or private classes\, please email to info@alchemist.sg] \n\nProgram\n \n1) Chocolate sponge (Hands-On): We’ll be using high-quality brown sugar of Amami Oshima in Kyushu\, European cocoa powder and fine flour to make fluffy and moist chiffon batter.  This recipe is also useful for making simple roll cake.\n2) Chocolate ganache cream: Make a thick and rich cream using high-quality cream from Elle & Vire\, a leading dairy producer in France\, and good quality couverture chocolate.\n3)How to roll the cake: Our instructor will teach you a technique to wrap the cake with ganache cream and pear. Then apply a layer of cream on top of the roll cake and decorate with cocoa powder\, fondant snow and other holiday decorations. \n  \nTakeaway \n\n1 x Cake Bûche de Noël Christmas Log Cake (Length about 20 ~ 22 cm\, width about 8 cm)\n【Christmas Present!】1 pack of High-quality unrefined brown sugar from Amami Oshima in Kyushu (600g)\n\n  \nPlease bring along: \n\n1 x Box for cake (Length 25 cm or more\, width 12 cm or more\, height 10 cm or more)\n※You can purchase a set of cake boxes (33 x 17\, 5 cm) and (33 x 17\, 5 x 10 cm) for S$2 dollars on the day itself (Cash payment only). We’ll need your reservation for preparation purposes so please inform us in advance or immediately after you have booked the tickets should you need to purchase the cake box.\nIce pack\nTake away carrier bag for all the boxes\nPen\n30 cm ruler\nSweater\, scarf or cardigan as the studio can get quite cold.\n\n\n I hope to make a Christmas cake that makes you happy\, delicious and happy with everyone ♬ We are waiting for everyone’s participation. – Yuki Sensei \n  \n\n\n＊Picture for illustrative purpose\n\n\nBûche de Noël\n\n  \nABOUT INSTRUCTOR \n \n  \n  \n  \n  \n  \n  \n  \n  \n  \n  \nDuring her 10 years stay in Paris\, Yuki learned the art of Patisserie and traditional French cuisine cooking. She is a French national diploma “CAP (Certificat d’ Aptitude Professionnelle) Pâtissier” and also a Diploma of Sommelier holder. In her class\, attendees can learn French Pâtisserie and traditional French cuisine cooking techniques in simple\, easy to understand steps. Yuki now teaches pastry classes at Spoonful! \n*Images for reference only \nTERMS & CONDITIONS APPLY
URL:https://spoonful.sg/event/christmas-log-cake-class-13dec/
LOCATION:Origins of Food\, One Farrer Hotel & Spa\, 1 Farrer Park Station Road\, 217562 Singapore Singapore\, Singapore\, 217562\, Singapore
CATEGORIES:Featured Spoonful Workshop Events,Spoonful Workshops
ATTACH;FMTTYPE=image/jpeg:https://spoonful.sg/wp-content/uploads/2018/11/mini_IMG_1095.jpg
END:VEVENT
END:VCALENDAR