BEGIN:VCALENDAR
VERSION:2.0
PRODID:-//Spoonful - ECPv5.14.1//NONSGML v1.0//EN
CALSCALE:GREGORIAN
METHOD:PUBLISH
X-WR-CALNAME:Spoonful
X-ORIGINAL-URL:https://spoonful.sg
X-WR-CALDESC:Events for Spoonful
BEGIN:VTIMEZONE
TZID:Asia/Singapore
BEGIN:STANDARD
TZOFFSETFROM:+0800
TZOFFSETTO:+0800
TZNAME:+08
DTSTART:20190101T000000
END:STANDARD
END:VTIMEZONE
BEGIN:VEVENT
DTSTART;TZID=Asia/Singapore:20190207T100000
DTEND;TZID=Asia/Singapore:20190207T120000
DTSTAMP:20260424T180553
CREATED:20190116T041123Z
LAST-MODIFIED:20190117T053639Z
UID:7974-1549533600-1549540800@spoonful.sg
SUMMARY:Valentines Cookie Class (7 Feb)
DESCRIPTION:About The Class \nThis class will be conducted mainly in the Japanese Language. English Recipes (adapted from Japanese version with partial translation in English) will be provided for non-Japanese speaking attendees. \nFor a full English class\, please enquire with us at info@alchemist.sg but kindly note that we will require at least 4 attendees to start a class. Thank you for your interest and kind understanding. \n  \n[Menu]\n☆ 2 large chest hearts\n☆ 2 mini hearts\n☆ 1 Love letter\n☆ 1 Bear\nTotal 6 \n[Class Rundown]\n1) Practice basic piping techniques (lines\, dots\, curves etc)\n2) Hands-on icing the cookies\n– Basic piping technique\n– Flooding\n– Familiar patterns (possible application of dots\, arrow feathers\, flower patterns\, etc.)\nUse simple techniques such as how to paint\, how to clean the surface\, how to draw patterns\, so you can design it as you like.\nBy adding plus ribbons and ornaments like flowers you get a more sweet and cute result\, full of originality. (Content to be learned in this class) \nItems to Bring to class:\n① Lidded Tupperwares or containers to bring the cookies home (14 cm × 17 cm) If this size is not available\, it is okay to divide.\n※ We are encouraging students to bring their own items for takeaways as an initiative of our CSR program towards a more sustainable environment. Takeaway boxes will still be available for your purchase on that day\, just in case you had accidentally forgotten… These cost S$1 per box.\n② Carrier bag (with gusset) big enough to contain your cookie container.\n③ Hand Towel\n④ Writing utensils (for writing notes such as pens)\n⑤ Outerwear such as cardigans\, scarves or shawl as the studio may get slightly cold. \n*Images are for reference only\nTERMS & CONDITIONS APPLY \n  \n  \n*Images are for reference only\nTERMS & CONDITIONS APPLY \n  \nAbout the Instructor\nMizuho is Spoonful’s instructor specializing in Icing & Cookie Decorations. In 2017\, she attained her diploma in Icing and started to teach in Muchen\, Germany.  Now she teaches her specialty – icing class – at Spoonful Singapore. She cares deeply for the taste\, design as well as food safety of her cookies. Mizuho is a mother of two to a lovely boy and a sweet little girl. Her classes can be kid-friendly as she is also very interactive with young children. Please enquire separately about private lessons and the lesson at children’s schools.\nCertification:JSA（日本サロネーゼ協会公認）Icing Diploma. \n 
URL:https://spoonful.sg/event/valentines-cookie-class-7-feb/
LOCATION:tanglin regency function room\, 381-385 Tanglin Road\, singapore\, 247967\, Singapore
CATEGORIES:Featured Spoonful Workshop Events,Spoonful Workshops
ATTACH;FMTTYPE=image/jpeg:https://spoonful.sg/wp-content/uploads/2019/01/Spoonful-Valentines-Cookie-Class.jpg
END:VEVENT
END:VCALENDAR