BEGIN:VCALENDAR
VERSION:2.0
PRODID:-//Spoonful - ECPv5.14.1//NONSGML v1.0//EN
CALSCALE:GREGORIAN
METHOD:PUBLISH
X-WR-CALNAME:Spoonful
X-ORIGINAL-URL:https://spoonful.sg
X-WR-CALDESC:Events for Spoonful
BEGIN:VTIMEZONE
TZID:Asia/Singapore
BEGIN:STANDARD
TZOFFSETFROM:+0800
TZOFFSETTO:+0800
TZNAME:+08
DTSTART:20190101T000000
END:STANDARD
END:VTIMEZONE
BEGIN:VEVENT
DTSTART;TZID=Asia/Singapore:20190414T143000
DTEND;TZID=Asia/Singapore:20190414T163000
DTSTAMP:20260424T150616
CREATED:20190314T022721Z
LAST-MODIFIED:20190410T034956Z
UID:8689-1555252200-1555259400@spoonful.sg
SUMMARY:Sakura Hanami Bento Workshop
DESCRIPTION:Learn how to put together your own character bento! \nIn this workshop\, you’ll create a bento of a cute little bear enjoying a picnic under a sakura tree. The bear will be made with seasoned rice\, cheese\, ham and Japanese seaweed. The little bear’s own picnic will be a bento made with an egg roll and a salted sakura petal. \nThis workshop is suitable for participants aged 8 and above. Parental supervision is required for children below 12. Parents/guardians will be permitted to accompany their children to the workshop for the sole purpose of attending to their needs. Children (8~12 yrs) will not be permitted to join the workshop without supervision. \n\n\n\nProgramme format: \n\nDemo：How to cook Japanese rice and brown rice\nDemo：How to make Decorative pieces to build a Kawaii Bento\nIntroduction & awareness on Food Waste & The Food Bank Singapore!\nLet’s make your Decorative Healthy Bento! (Hands-on)\n\n  \nImages are for reference only. Actual product may differ slightly. \nParent & Child pairs will share the same bento box & ingredients. Please select the “Pair Tickets” below\nAdditional child tickets are at $10 per child\, sharing the same ingredients & bento as the primary child.\nIf you’re attending as a single adult\, please kindly select the “Pair Tickets” below. \n\n\n  \nIn Support of Japanese Local Produce \n \n  \n\n\n  \n  \n\n\n  \n  \n  \n\n\nTERMS & CONDITIONS APPLY
URL:https://spoonful.sg/event/sakura-hanami-bento-workshop/
LOCATION:tanglin regency function room\, 381-385 Tanglin Road\, singapore\, 247967\, Singapore
CATEGORIES:Featured Spoonful Workshop Events,Spoonful Workshops
ATTACH;FMTTYPE=image/jpeg:https://spoonful.sg/wp-content/uploads/2019/03/Bears-Hanami-Bento2.jpg
END:VEVENT
END:VCALENDAR