BEGIN:VCALENDAR
VERSION:2.0
PRODID:-//Spoonful - ECPv5.14.1//NONSGML v1.0//EN
CALSCALE:GREGORIAN
METHOD:PUBLISH
X-WR-CALNAME:Spoonful
X-ORIGINAL-URL:https://spoonful.sg
X-WR-CALDESC:Events for Spoonful
BEGIN:VTIMEZONE
TZID:Asia/Singapore
BEGIN:STANDARD
TZOFFSETFROM:+0800
TZOFFSETTO:+0800
TZNAME:+08
DTSTART:20190101T000000
END:STANDARD
END:VTIMEZONE
BEGIN:VEVENT
DTSTART;TZID=Asia/Singapore:20190425T100000
DTEND;TZID=Asia/Singapore:20190425T111500
DTSTAMP:20260424T150616
CREATED:20190307T022712Z
LAST-MODIFIED:20190419T091815Z
UID:8630-1556186400-1556190900@spoonful.sg
SUMMARY:Shopping at Wet Market
DESCRIPTION:This event will be conducted only in Japanese. \n 
URL:https://spoonful.sg/event/shopping-at-wet-market-25-apr/
LOCATION:Redhill Market\, 81 Redhill Ln\, singapore\, 150081\, Singapore
CATEGORIES:Featured Spoonful Workshop Events,Spoonful Workshops
ATTACH;FMTTYPE=image/jpeg:https://spoonful.sg/wp-content/uploads/2018/12/mini_vegetable-photo.jpg
END:VEVENT
END:VCALENDAR