BEGIN:VCALENDAR
VERSION:2.0
PRODID:-//Spoonful - ECPv5.14.1//NONSGML v1.0//EN
CALSCALE:GREGORIAN
METHOD:PUBLISH
X-WR-CALNAME:Spoonful
X-ORIGINAL-URL:https://spoonful.sg
X-WR-CALDESC:Events for Spoonful
BEGIN:VTIMEZONE
TZID:Asia/Singapore
BEGIN:STANDARD
TZOFFSETFROM:+0800
TZOFFSETTO:+0800
TZNAME:+08
DTSTART:20190101T000000
END:STANDARD
END:VTIMEZONE
BEGIN:VEVENT
DTSTART;TZID=Asia/Singapore:20190428T150000
DTEND;TZID=Asia/Singapore:20190428T180000
DTSTAMP:20260424T150013
CREATED:20190326T050753Z
LAST-MODIFIED:20190430T163716Z
UID:8774-1556463600-1556474400@spoonful.sg
SUMMARY:Chef Yamashita's Sakura Chiffon & Sudakitou Golden Roll Cake
DESCRIPTION:Chef Yamashita’s Sakura Chiffon & Sudakitoh Golden Roll Cake \n  \nCelebrate Spring with us and popular Japanese pastry Chef Yamashita himself\, as we bring you another edition of his beautiful bakes! In this one-time-only seasonal class\, learn how to make a classic Sakura Chiffon cake and a Sadakitou Golden Roll cake with Sudakitoh (unrefined cane sugar) up close and personal\, directly from Chef himself! \n  \nAbout the class: \n\nMenu: 2 cakes in 1 class! (1 x Sakura Chiffon cake & 1 x Sukdakitou Golden Roll Cake)\nDuration: 3 hours\nFormat: Hands-on (Mix of pair & individual work)\nClass will be taught in English & Japanese languages.\n\n  \nWhat’s included in the ticket fee? \n\nClass fee\,\ningredients\,\napron on loan\,\nrecipe\n\n  \nTake home: \n\n1 x Sakura Chiffon cake\n1 x Sudakitou Golden Roll cake\n\n  \nPlease bring along:  \n\nIce pack & cooler bag to bring the cakes home\nSweater or outerwear as the studio may get cold\n\n  \nAlso\, meet our new robot ambassador Kawasaki duAaro\, who will be making and serving us Japanese UCC coffee that day! \n  \nAbout Chef Yamashita \nChef Yamashita Masataka was trained in Tsuji Culinary Institute\, a well-known & respected culinary institute in Osaka\, Japan. He worked at various patisseries around Japan before starting his own Patisserie in Nara. The patisserie quickly became one of the tops in Nara. Eight years later\, yearning for new challenges & a change of scenery\, Chef Yamashita moved to Singapore where he took charge of the kitchen at Glace & Flor Patisserie\, turning it into a haven for delightful cakes & pastries. Chef Yamashita enjoys making beautiful cakes\, sweets & pastries for his family & friends He finds great satisfaction in knowing that a simple but well-made cake could bring so much joy & laughter to his loved ones. \nwww.chefyamashita.com \n  \n  \n  \nAbout Kawasaki duAro\n \nThe Kawasaki dual-arm duAro robot serves coffee using an off-the-shelf coffee maker. duAro is smart enough to pick up the selected coffee capsule and put it into the coffee machine\, takes an empty cup and places it in place\, presses the button to start the coffee machine just like a normal human would and then wait patiently until the coffee is brewed and ready to serve. duAro then picks up the cup from the coffee machine and then places on the waiting table. Coffee is ready for consumption. \nCurrent Promotion! \nComplimentary one- day trial of duAro to help you make and serve coffee (suitable for events!) is now on!\nContact us now for more information – info@alchemist.sg \n  \n  \n  \nAbout Sudakitou Sugar \nUsing 100% sugar cane grown in the Amami Islands in Japan helps maintain an authentic sugar cane flavour. It is carefully heated to give it a pale amber colour. It has a wide range of uses including cooking\, confectioneries\, coffee\, and tea. It was also the first sugar product to win the Monde Selection Gold Medal. \n  \nImages for reference only \nTERMS & CONDITIONS APPLY \n \n  \n 
URL:https://spoonful.sg/event/chef-yamashitas-sakura-chiffon-sudakitoh-golden-roll-cake/
LOCATION:Incubaker\, 21 Media Cir\, #01-01 Infinite Studios\, Singapore 138562\, Singapore
CATEGORIES:Featured Spoonful Workshop Events,Spoonful Workshops
ATTACH;FMTTYPE=image/jpeg:https://spoonful.sg/wp-content/uploads/2019/03/Chef-Yamashita-Sudakiroh2.jpg
END:VEVENT
END:VCALENDAR