BEGIN:VCALENDAR
VERSION:2.0
PRODID:-//Spoonful - ECPv5.14.1//NONSGML v1.0//EN
CALSCALE:GREGORIAN
METHOD:PUBLISH
X-WR-CALNAME:Spoonful
X-ORIGINAL-URL:https://spoonful.sg
X-WR-CALDESC:Events for Spoonful
BEGIN:VTIMEZONE
TZID:Asia/Singapore
BEGIN:STANDARD
TZOFFSETFROM:+0800
TZOFFSETTO:+0800
TZNAME:+08
DTSTART:20190101T000000
END:STANDARD
END:VTIMEZONE
BEGIN:VEVENT
DTSTART;TZID=Asia/Singapore:20190720T150000
DTEND;TZID=Asia/Singapore:20190720T170000
DTSTAMP:20260424T210834
CREATED:20190613T093304Z
LAST-MODIFIED:20190714T005611Z
UID:9395-1563634800-1563642000@spoonful.sg
SUMMARY:Zero Waste Fruit Enzyme Juice!
DESCRIPTION:Spoonful and Ugly Food proudly presents our inaugural Zero Waste Fruit Enzyme Juice Workshop!\n\nDid you know that your soon to expire or ugly fruits can be changed into something really beneficial for your body and health?\nJoin us as we go on a learning adventure and worthy cause to turn ugly fruits into something delectable and healthy and best of all\, reduce food waste! \nThe science behind Fruit Enzymes.\nEnzymes act as catalysts in chemical reactions and they speed up the process that changes the starting ingredients\, known as substrates\, into their final products. These catalytic enzymes are commonly known as digestive enzymes which are naturally found in our bodies and also in nature\, specifically in fruits. \nExtracting enzymes from fruits is usually done through a fermentation process to make a concentrated enzyme drink. These beverages contain probiotics\, antioxidants\, and enzymes\, as such\, it can bring about many health benefits including aiding digestion\, boosting immunity\, improving skin tone & complexion\, alkalizing body\, and many more. \nClass Format:\nWorkshop Talk followed by actual hands-on cooking and then tasting. \nMenu\nSelf-made Fruit Vinegar & Fruit Enzyme Junice \nProgramme\n15:00-15:30 Introduction of Ugly Food and Spoonful. Talk by Ugly food.\n15:30-15:45 Introduction about fruit vinegar and fruit enzymes – what are they and their health benefits. Tasting of fruit vinegar and fruit enzyme juice.\n15:45-16:45 Hands-on practice\n16:45: Q&A\n17:00 End of the class \nBYO Glass Bottles\nTo help reduce the use of plastics\, each attendee is encouraged to bring their own more than 1.5-litre capacity GLASS bottles with wide neck opening\, for this workshop. (Sample: https://www.ikea.com/sg/en/p/korken-jar-with-lid-clear-glass-50213551/)\nShould you require one from us\, our glass bottles are available for a top-up of S$20 each and they come pre-cleaned\, boiled for sanitization\, for your use. Simply select the ticket option with Glass Bottle when you make your purchase of the workshop ticket. \nIn collaboration with Ugly Food Pte Ltd
URL:https://spoonful.sg/event/zero-waste-fruit-enzyme-juice/
LOCATION:Singapore Sustainability Academy\, 180 Kitchener Road #06-10\, City Square Mall (Sky Park)\, 208539\, Singapore
CATEGORIES:Featured Spoonful Workshop Events,Spoonful Workshops
ATTACH;FMTTYPE=image/jpeg:https://spoonful.sg/wp-content/uploads/2019/06/IMG_9750-e1563065653910.jpg
END:VEVENT
END:VCALENDAR