BEGIN:VCALENDAR
VERSION:2.0
PRODID:-//Spoonful - ECPv5.14.1//NONSGML v1.0//EN
CALSCALE:GREGORIAN
METHOD:PUBLISH
X-WR-CALNAME:Spoonful
X-ORIGINAL-URL:https://spoonful.sg
X-WR-CALDESC:Events for Spoonful
BEGIN:VTIMEZONE
TZID:Asia/Singapore
BEGIN:STANDARD
TZOFFSETFROM:+0800
TZOFFSETTO:+0800
TZNAME:+08
DTSTART:20190101T000000
END:STANDARD
END:VTIMEZONE
BEGIN:VEVENT
DTSTART;TZID=Asia/Singapore:20190917T093000
DTEND;TZID=Asia/Singapore:20190917T110000
DTSTAMP:20260424T012359
CREATED:20190809T151911Z
LAST-MODIFIED:20190912T115558Z
UID:9806-1568712600-1568718000@spoonful.sg
SUMMARY:Spoonful's Morning Club -Special Breakfast Experience at Violet Oon & Beauty Talk by Dr. Melvin TAN from EPION-
DESCRIPTION:OVERVIEW \nBeauty is only skin deep but we all have issues with our skin. Here’s an opportunity to learn from the specialist in this field! Be engaged with a Beauty Q&A talk by Dr. Melvin Tan from EPION while you enjoy a Special Breakfast Experience at Violet Oon’s!  Learn from Dr. Tan’s medical point of view about skin and how you can improve or correct your skin issues. Even if you just want to minimize common problems like wrinkles\, darkening and sagging\, you will have options to choose from and can learn more about laser and filler approaches. At this special session\, you’ll have a rare opportunity to consult with Dr. Melvin Tan directly and find out more about your available options to skin problem!. \n(Participants in the morning activities can receive FREE individual consultation on the day or at a later date for free! Usual consultation starts from S $120) \nThe breakfast room is also reserved\, and a special menu will be prepared just for this special event. \n  \nSCHEDULE \n09:30 Breakfast Reception (Breakfast is served until 10:30.) \n10:10 Talk by Dr. Melvin Tan on Skin. (with Japanese interpretation) \n10:40 Q&A & Consultation session. Consultations are on an individual basis. \n11:00 End (Applicants can continue to consult with Dr individually until 11:30) \n  \n  \n   \n \n  \n  \n  \n  \n  \n  \n*Images are for reference only \n*TERMS & CONDITIONS APPLY \n  \n  \n  \nABOUT DR MELVIN TAN & EPION CLINIC  \nHe received a medical and neuroscience degree from University College London. After starting his career as an ophthalmologist\, he opened an esthetic clinic to focus on an approach that combines beauty and science. He is one of five local teachers at the Allergan Institute of Medicine and has given numerous lectures on aesthetic medicine around the world. Dr’s aesthetics and skills are also recognized by doctors around the world\, and as a trainer\, he conducts on-site training in the United States\, Britain\, Thailand\, Japan\, and accepts residents. There is a reputation for counseling with a relaxed personality and politeness that emphasizes patient feelings and many Japanese patients. \nEPION emphasizes an approach that emphasizes consultation. ∙ From the three elements of cells\, anatomy\, and geometry\, we will advise you on how to deal with face\, body\, skin\, and hair problems that each patient has. The latest beauty machine is prepared for treatment\, and you can relax and receive treatment in the hospital that is unified with a chic interior. \nAWARD HISTORY \n2019\nCLEO Clear Skin Awards Best Barrier Boosting Facial (Sensitive)-EPION Pro Radiance Best Deep Cleansing Facial Treatment (Oily)-EPION Power Hour\nThe Singapore Women ’s Weekly Spa Awards Best Infra-Red Facial-EPION S.T.A.R\nThe Harper ’s Bazaar Spa Awards Most Revolutionary Treatment Program-Skintyte & Light Lift Plus \n2018\nHer World Spa Awards Best Facial for Dull and Tired Skin (Editor ’s Choice)-EPION Power Hour Best Pre-party Facial (Editor ’s Choice)-EPION Signia\nHarpers Bazaar Beauty Awards Best Skin Refining Serum-EPION Refine 5.2 Clarifying Serum
URL:https://spoonful.sg/event/violet_oon_bf/
LOCATION:National Kitchen by Violet Oon\, National Gallery Singapore 1 St Andrew's Rd\, #02–01\, National Garelly\, Singapore\, Singapore\, Singapore
CATEGORIES:Featured Spoonful Workshop Events,Spoonful Workshops
ATTACH;FMTTYPE=image/jpeg:https://spoonful.sg/wp-content/uploads/2019/08/kaya-toast.jpeg
END:VEVENT
END:VCALENDAR