BEGIN:VCALENDAR
VERSION:2.0
PRODID:-//Spoonful - ECPv5.14.1//NONSGML v1.0//EN
CALSCALE:GREGORIAN
METHOD:PUBLISH
X-WR-CALNAME:Spoonful
X-ORIGINAL-URL:https://spoonful.sg
X-WR-CALDESC:Events for Spoonful
BEGIN:VTIMEZONE
TZID:Asia/Singapore
BEGIN:STANDARD
TZOFFSETFROM:+0800
TZOFFSETTO:+0800
TZNAME:+08
DTSTART:20190101T000000
END:STANDARD
END:VTIMEZONE
BEGIN:VEVENT
DTSTART;TZID=Asia/Singapore:20191211T110000
DTEND;TZID=Asia/Singapore:20191211T130000
DTSTAMP:20260423T120659
CREATED:20191120T060156Z
LAST-MODIFIED:20191206T031751Z
UID:10640-1576062000-1576069200@spoonful.sg
SUMMARY:Spoonful Chef’s Table Series - Cooking with Chef Kay.
DESCRIPTION:It’s another round of Spoonful Chef’s Table Series! This time we’ll be introducing Chef Kay of Torikin restaurant! Chef will share with us the essential things to cooking professionally!  This is a very fun and concentrated 1.5 hours of cooking demo and hands-on session + lunch\, suitable for all experience levels so beginner cooks are welcomed too. Come and enjoy this culinary sharing session led by Chef Kay of Torikin! \n  \n[About the programme] \nIntroduction and explanation by Chef Kay. \nFor those who are not good at cooking\, fret not as only simple assistance assignments would be applied. For example\, if your knife skills are not that good\, you might be assigned to boiling eggs. \n  \n[Menu] \n\nNice-style salad\nShrimp Ahijo with French Bread (with ready-made bread.)\nPork roast with mushroom sautéed creme sauce\n\n  \n[Date & Time]\nWednesday\, 11 December 2019\, 11: 00-13: 00 \n[Venue]\nTorikin \n[Participants] \nThis session is suitable for those who …. \n\nthose who love cooking\nare not good at cooking but would like to learn!\nwould like to know the professional tips that can be used for everyday cooking!\n\n  \n[Price]  \nS$79 (includes 1 drink <wine\, beer or soft drink>) and materials) \n\n*Images are for reference only\nTERMS & CONDITIONS APPLY
URL:https://spoonful.sg/event/spoonful-chefs-table-series-cooking-with-chef-kay/
LOCATION:鶏金 TORIKIN\, 205 River Valley Road #01-75 UE Square\, 238274\, Singapore
CATEGORIES:Featured Spoonful Workshop Events,Spoonful Workshops
ATTACH;FMTTYPE=image/jpeg:https://spoonful.sg/wp-content/uploads/2019/11/WhatsApp-Image-2019-11-20-at-09.29.37-e1574228813812.jpeg
END:VEVENT
END:VCALENDAR