BEGIN:VCALENDAR
VERSION:2.0
PRODID:-//Spoonful - ECPv5.14.1//NONSGML v1.0//EN
CALSCALE:GREGORIAN
METHOD:PUBLISH
X-WR-CALNAME:Spoonful
X-ORIGINAL-URL:https://spoonful.sg
X-WR-CALDESC:Events for Spoonful
BEGIN:VTIMEZONE
TZID:Asia/Singapore
BEGIN:STANDARD
TZOFFSETFROM:+0800
TZOFFSETTO:+0800
TZNAME:+08
DTSTART:20200101T000000
END:STANDARD
END:VTIMEZONE
BEGIN:VEVENT
DTSTART;TZID=Asia/Singapore:20200213T110000
DTEND;TZID=Asia/Singapore:20200213T130000
DTSTAMP:20260423T021122
CREATED:20200106T043400Z
LAST-MODIFIED:20200208T065946Z
UID:10950-1581591600-1581598800@spoonful.sg
SUMMARY:Valentine's Cookie Class 13 Feb
DESCRIPTION:　The class has been cancled due to the cirsumstances of the SG Corona virus epidemic.  We are planning to have another class in April. Inquiry: info@alchemist.sg \n\n\n\n\n\n\n\n\n\n\nIt’s February and that spells Valentine’s Day! ♡ Why not give this special one your very own hand-made Valentine’s Iced Cookies this year? \n\nABOUT THE CLASS \nThis time\, we’ll be making a big impact Pucker Up Lip cookie (so you can smooch the cookie before eating it)  a popular bear for the cuddles\, two kinds of hearts (as it’s simply wont be VDay if there’s only one heart)\, a comforting mug of latte where you can write your own love message and a cutesy love letter to convey all your feelings! If all these doesn’t spell love\, we don’t know what does! \nThis Valentine’s Day cookie is a brown cookie kneaded with cocoa! Enjoy a slightly different cocoa-flavored cookie! \n* As always\, we pay attention to the safety and taste of the ingredients used. We’ll be using Elle & Vire Professionnel French Butter to make the cookies and all tools and equipment will be sanitized with alkaline water cleaner JAQUAS before class starts. \nThis class will be conducted mainly in the Japanese Language. English Recipes (adapted from Japanese version with partial translation in English) will be provided for non-Japanese speaking attendees. \nFor a full English class\, please enquire with us at info@alchemist.sg but kindly note that we will require at least 4 attendees to start a class. Thank you for your interest and kind understanding. \n  \n【Menu】 \n★ Pucker Up Lips  1 piece \n★Coffee Mug with message 1 piece  \n★ CuddlyBear 1 piece \n★Valentine’s Hearts 2 pieces \n★Love Letter 1 piece \nTotal 6 Cookies \n  \n※Cuddly bear’s mouth area (center) and the heart on the love letter will be prepared by our instructor in advance. \n  \n☆ Special 1st Anniversary price ☆ \nIt’s been a year with Mizuho sensei and as a commemoration\, we’re proud to offer a S$5 discount to all students. (*Usual Price at S$78) \n\n\n  \n*Images are for reference only\nTERMS & CONDITIONS APPLY \n\n  \nABOUT INSTRUCTOR \nMizuho is Spoonful’s instructor specializing in Icing & Cookie Decorations. In 2017\, she attained her diploma in Icing and started to teach in Muchen\, Germany.  Now she teaches her specialty – icing class – at Spoonful Singapore. She cares deeply for the taste\, design as well as food safety of her cookies. Mizuho is a mother of two to a lovely boy and a sweet little girl. Her classes can be kid-friendly as she is also very interactive with young children. Please enquire separately about private lessons and the lesson at children’s schools.\nCertification:JSA（日本サロネーゼ協会公認）Icing Diploma.
URL:https://spoonful.sg/event/valentines-cookie-class-13-feb/
LOCATION:鶏金 TORIKIN\, 205 River Valley Road #01-75 UE Square\, 238274\, Singapore
CATEGORIES:Featured Spoonful Workshop Events,Spoonful Workshops
ATTACH;FMTTYPE=image/jpeg:https://spoonful.sg/wp-content/uploads/2020/01/Spoonful-Valentines-Day-Cookie-Decor-Class.jpg
END:VEVENT
END:VCALENDAR