BEGIN:VCALENDAR
VERSION:2.0
PRODID:-//Spoonful - ECPv5.14.1//NONSGML v1.0//EN
CALSCALE:GREGORIAN
METHOD:PUBLISH
X-WR-CALNAME:Spoonful
X-ORIGINAL-URL:https://spoonful.sg
X-WR-CALDESC:Events for Spoonful
BEGIN:VTIMEZONE
TZID:Asia/Singapore
BEGIN:STANDARD
TZOFFSETFROM:+0800
TZOFFSETTO:+0800
TZNAME:+08
DTSTART:20200101T000000
END:STANDARD
END:VTIMEZONE
BEGIN:VEVENT
DTSTART;TZID=Asia/Singapore:20200309T100000
DTEND;TZID=Asia/Singapore:20200309T120000
DTSTAMP:20260422T210119
CREATED:20200207T073023Z
LAST-MODIFIED:20200308T024141Z
UID:11237-1583748000-1583755200@spoonful.sg
SUMMARY:-Fully Booked!- Basic Knowledge for Medical Herbal Food
DESCRIPTION:This class will be conducted in Japanese.
URL:https://spoonful.sg/event/chinese-medicine-class-by-japanese-doctor/
LOCATION:Healthy Soba IKI\, 1 Raffles Place #04-47 One Raffles Place\, Singapore 048616
CATEGORIES:Featured Spoonful Workshop Events
ATTACH;FMTTYPE=image/jpeg:https://spoonful.sg/wp-content/uploads/2020/02/yakuzen.jpg
END:VEVENT
END:VCALENDAR