BEGIN:VCALENDAR
VERSION:2.0
PRODID:-//Spoonful - ECPv5.14.1//NONSGML v1.0//EN
CALSCALE:GREGORIAN
METHOD:PUBLISH
X-WR-CALNAME:Spoonful
X-ORIGINAL-URL:https://spoonful.sg
X-WR-CALDESC:Events for Spoonful
BEGIN:VTIMEZONE
TZID:Asia/Singapore
BEGIN:STANDARD
TZOFFSETFROM:+0800
TZOFFSETTO:+0800
TZNAME:+08
DTSTART:20200101T000000
END:STANDARD
END:VTIMEZONE
BEGIN:VEVENT
DTSTART;TZID=Asia/Singapore:20200401T120000
DTEND;TZID=Asia/Singapore:20200401T123000
DTSTAMP:20260422T164912
CREATED:20200331T015506Z
LAST-MODIFIED:20200331T110936Z
UID:11540-1585742400-1585744200@spoonful.sg
SUMMARY:Waiting List! Online Cooking! Super Easy but Premium Taste Pudding
DESCRIPTION:Full House! Pls check out 1pm class at https://spoonful.sg/ja/?post_type=tribe_events&p=11588&preview=true The content is only available in Japanese for now.
URL:https://spoonful.sg/event/online-cooking-pudding/
LOCATION:Online
CATEGORIES:Featured Spoonful Workshop Events,Spoonful Workshops
ATTACH;FMTTYPE=image/jpeg:https://spoonful.sg/wp-content/uploads/2020/03/pudding-small.jpg
END:VEVENT
BEGIN:VEVENT
DTSTART;TZID=Asia/Singapore:20200401T130000
DTEND;TZID=Asia/Singapore:20200401T133000
DTSTAMP:20260422T164912
CREATED:20200331T070332Z
LAST-MODIFIED:20200331T122346Z
UID:11588-1585746000-1585747800@spoonful.sg
SUMMARY:Waiting List! Online Cooking! Super Easy but Premium Taste Pudding
DESCRIPTION:The content is only available in Japanese for now.
URL:https://spoonful.sg/event/online-cooking-pudding-2/
LOCATION:Online
CATEGORIES:Featured Spoonful Workshop Events,Spoonful Workshops
ATTACH;FMTTYPE=image/jpeg:https://spoonful.sg/wp-content/uploads/2020/03/pudding-small.jpg
END:VEVENT
END:VCALENDAR