BEGIN:VCALENDAR
VERSION:2.0
PRODID:-//Spoonful - ECPv5.14.1//NONSGML v1.0//EN
CALSCALE:GREGORIAN
METHOD:PUBLISH
X-WR-CALNAME:Spoonful
X-ORIGINAL-URL:https://spoonful.sg
X-WR-CALDESC:Events for Spoonful
BEGIN:VTIMEZONE
TZID:Asia/Singapore
BEGIN:STANDARD
TZOFFSETFROM:+0800
TZOFFSETTO:+0800
TZNAME:+08
DTSTART:20200101T000000
END:STANDARD
END:VTIMEZONE
BEGIN:VEVENT
DTSTART;TZID=Asia/Singapore:20200416T160000
DTEND;TZID=Asia/Singapore:20200416T164000
DTSTAMP:20260422T164912
CREATED:20200414T010508Z
LAST-MODIFIED:20200415T090259Z
UID:11796-1587052800-1587055200@spoonful.sg
SUMMARY:Online Cooking Karaage
DESCRIPTION:This class will be conducted in Japanese language. \nPlease check Japanese website for more information.
URL:https://spoonful.sg/event/online-cooking-1/
LOCATION:Online
CATEGORIES:Featured Spoonful Workshop Events,Spoonful Workshops
ATTACH;FMTTYPE=image/jpeg:https://spoonful.sg/wp-content/uploads/2020/04/karagage.jpeg
END:VEVENT
END:VCALENDAR