BEGIN:VCALENDAR
VERSION:2.0
PRODID:-//Spoonful - ECPv5.14.1//NONSGML v1.0//EN
CALSCALE:GREGORIAN
METHOD:PUBLISH
X-WR-CALNAME:Spoonful
X-ORIGINAL-URL:https://spoonful.sg
X-WR-CALDESC:Events for Spoonful
BEGIN:VTIMEZONE
TZID:Asia/Singapore
BEGIN:STANDARD
TZOFFSETFROM:+0800
TZOFFSETTO:+0800
TZNAME:+08
DTSTART:20200101T000000
END:STANDARD
END:VTIMEZONE
BEGIN:VEVENT
DTSTART;TZID=Asia/Singapore:20200417T140000
DTEND;TZID=Asia/Singapore:20200417T144000
DTSTAMP:20260422T164914
CREATED:20200413T094740Z
LAST-MODIFIED:20200415T090420Z
UID:11756-1587132000-1587134400@spoonful.sg
SUMMARY:On line Sweets Class for Parents & Kids
DESCRIPTION:This class will be conducted in Japanese language. \nPlease check more details in the Japanese page. \n 
URL:https://spoonful.sg/event/sweet-online/
LOCATION:Online
CATEGORIES:Featured Spoonful Workshop Events,Spoonful Workshops
ATTACH;FMTTYPE=image/jpeg:https://spoonful.sg/wp-content/uploads/2020/04/AC_chocolate-cake-.jpg
END:VEVENT
END:VCALENDAR