BEGIN:VCALENDAR
VERSION:2.0
PRODID:-//Spoonful - ECPv5.14.1//NONSGML v1.0//EN
CALSCALE:GREGORIAN
METHOD:PUBLISH
X-WR-CALNAME:Spoonful
X-ORIGINAL-URL:https://spoonful.sg
X-WR-CALDESC:Events for Spoonful
BEGIN:VTIMEZONE
TZID:Asia/Singapore
BEGIN:STANDARD
TZOFFSETFROM:+0800
TZOFFSETTO:+0800
TZNAME:+08
DTSTART:20200101T000000
END:STANDARD
END:VTIMEZONE
BEGIN:VEVENT
DTSTART;TZID=Asia/Singapore:20200424T140000
DTEND;TZID=Asia/Singapore:20200424T144000
DTSTAMP:20260422T165044
CREATED:20200413T221658Z
LAST-MODIFIED:20200415T091942Z
UID:11778-1587736800-1587739200@spoonful.sg
SUMMARY:Online Parents & Kids Sweet Class (Custard)
DESCRIPTION:This class will be conducted in Japanese Language. \nPlease check our Japanese page for more details.
URL:https://spoonful.sg/event/online-sweet-3/
LOCATION:Online
CATEGORIES:Featured Spoonful Workshop Events,Spoonful Workshops
ATTACH;FMTTYPE=image/jpeg:https://spoonful.sg/wp-content/uploads/2020/04/AC_苺のミルフィーユ.jpg
END:VEVENT
END:VCALENDAR