BEGIN:VCALENDAR
VERSION:2.0
PRODID:-//Spoonful - ECPv5.14.1//NONSGML v1.0//EN
CALSCALE:GREGORIAN
METHOD:PUBLISH
X-WR-CALNAME:Spoonful
X-ORIGINAL-URL:https://spoonful.sg
X-WR-CALDESC:Events for Spoonful
BEGIN:VTIMEZONE
TZID:Asia/Singapore
BEGIN:STANDARD
TZOFFSETFROM:+0800
TZOFFSETTO:+0800
TZNAME:+08
DTSTART:20200101T000000
END:STANDARD
END:VTIMEZONE
BEGIN:VEVENT
DTSTART;TZID=Asia/Singapore:20200505T160000
DTEND;TZID=Asia/Singapore:20200505T164000
DTSTAMP:20260422T114802
CREATED:20200429T055106Z
LAST-MODIFIED:20200430T093522Z
UID:12015-1588694400-1588696800@spoonful.sg
SUMMARY:Japanese Home Food (Ebichiri)
DESCRIPTION:This class will be conducted in Japanese. \nFor the English class. please contact us at info@alchemist.sg .
URL:https://spoonful.sg/event/japanese-home-food-ebichiri/
LOCATION:Online
CATEGORIES:Featured Spoonful Workshop Events,Spoonful Workshops
ATTACH;FMTTYPE=image/jpeg:https://spoonful.sg/wp-content/uploads/2020/04/エビのチリソース.jpg
END:VEVENT
END:VCALENDAR